BEGIN:VCALENDAR
VERSION:2.0
PRODID:-//hacksw/handcal//NONSGML v1.0//EN
CALSCALE:GREGORIAN
BEGIN:VTIMEZONE
TZID:Europe/Berlin
X-LIC-LOCATION:Europe/Berlin
BEGIN:DAYLIGHT
TZOFFSETFROM:+0100
TZOFFSETTO:+0200
TZNAME:CEST
DTSTART:19700329T020000
RRULE:FREQ=YEARLY;BYDAY=-1SU;BYMONTH=3
END:DAYLIGHT
BEGIN:STANDARD
TZOFFSETFROM:+0200
TZOFFSETTO:+0100
TZNAME:CET
DTSTART:19701025T030000
RRULE:FREQ=YEARLY;BYDAY=-1SU;BYMONTH=10
END:STANDARD
END:VTIMEZONE
BEGIN:VEVENT
DTEND;TZID=Europe/Berlin:20260602T120000
UID:69e810fc430cf
DTSTAMP:20260422T020620
LOCATION:Stadtbücherei Weilerstraße 23\, 84032 Landshut
DESCRIPTION:Fotokünstler aufgepasst! Wir begeben uns auf die Fotopirsch in und rund um die Bücherei. Anschließend werden wir unsere Fotoausbeute mit einem Bildprogramm am I-Pad bearbeiten. Herr Christen steht euch mit Rat und Tat zur Seite. 
URL;VALUE=URI:https://www.unser-ferienprogramm.de/landshut/veranstaltung.php?id=310462
SUMMARY:Foto-Workshop mit I-Pads
DTSTART;TZID=Europe/Berlin:20260602T100000
END:VEVENT

END:VCALENDAR
