BEGIN:VCALENDAR
VERSION:2.0
PRODID:-//hacksw/handcal//NONSGML v1.0//EN
CALSCALE:GREGORIAN
BEGIN:VTIMEZONE
TZID:Europe/Berlin
X-LIC-LOCATION:Europe/Berlin
BEGIN:DAYLIGHT
TZOFFSETFROM:+0100
TZOFFSETTO:+0200
TZNAME:CEST
DTSTART:19700329T020000
RRULE:FREQ=YEARLY;BYDAY=-1SU;BYMONTH=3
END:DAYLIGHT
BEGIN:STANDARD
TZOFFSETFROM:+0200
TZOFFSETTO:+0100
TZNAME:CET
DTSTART:19701025T030000
RRULE:FREQ=YEARLY;BYDAY=-1SU;BYMONTH=10
END:STANDARD
END:VTIMEZONE
BEGIN:VEVENT
DTEND;TZID=Europe/Berlin:20260603T160000
UID:69e810dc4a78c
DTSTAMP:20260422T020548
LOCATION:Jugendzentrum Poschinger Villa\, Gestütstr. 1\, 84028 Landshut (hinter Amtsgericht Landshut)
DESCRIPTION:So ein Theater: \r\ngemeinsam begeben wir uns auf die Entdeckungsreise in verschiedene Theaterbereiche.\r\n\r\nOb als Pantomime\, Clown\, Impro - Star - es geht um die Freude am Ausprobieren und Spielen.\r\nVorhang auf für drei Tage voller Bühnenluft!\r\n\r\nEine Anwesenheit an allen 3 Tagen ist Voraussetzung für die Teilnahme an diesem Wochenprogramm.
URL;VALUE=URI:https://www.unser-ferienprogramm.de/landshut/veranstaltung.php?id=310446
SUMMARY:Theatertage
DTSTART;TZID=Europe/Berlin:20260601T090000
END:VEVENT

END:VCALENDAR
