BEGIN:VCALENDAR
VERSION:2.0
PRODID:-//hacksw/handcal//NONSGML v1.0//EN
CALSCALE:GREGORIAN
BEGIN:VTIMEZONE
TZID:Europe/Berlin
X-LIC-LOCATION:Europe/Berlin
BEGIN:DAYLIGHT
TZOFFSETFROM:+0100
TZOFFSETTO:+0200
TZNAME:CEST
DTSTART:19700329T020000
RRULE:FREQ=YEARLY;BYDAY=-1SU;BYMONTH=3
END:DAYLIGHT
BEGIN:STANDARD
TZOFFSETFROM:+0200
TZOFFSETTO:+0100
TZNAME:CET
DTSTART:19701025T030000
RRULE:FREQ=YEARLY;BYDAY=-1SU;BYMONTH=10
END:STANDARD
END:VTIMEZONE
BEGIN:VEVENT
DTEND;TZID=Europe/Berlin:20260605T163000
UID:69e82b4153303
DTSTAMP:20260422T035825
LOCATION:Wiese hinter dem Jugendkulturzentrum Alte Kaserne\, Liesl-Karlstadt-Weg 4\, 84036 Landshut
DESCRIPTION:wenn ihr bereits Erfahrung mit eurem Mountainbike auf Wurzeln\, Steinen\, Treppen und kleinen Kickern gemacht habt\, dann ist das genau der richtige Tag für euch. Wir erklären euch zuerst ein paar Grundlagen guter Fahrtechnik und verbringen dann die meiste Zeit auf den Trails der  Isar-Hangleite. Der Umgang mit Pflanzen und Tieren steht dabei ebenfalls auf der Checkliste. \r\n\r\nWir freuen uns auf euch!
URL;VALUE=URI:https://www.unser-ferienprogramm.de/landshut/veranstaltung.php?id=310374
SUMMARY:Radlkids - Mein Mountainbike auf dem Trail
DTSTART;TZID=Europe/Berlin:20260605T090000
END:VEVENT

END:VCALENDAR
