BEGIN:VCALENDAR
VERSION:2.0
PRODID:-//hacksw/handcal//NONSGML v1.0//EN
CALSCALE:GREGORIAN
BEGIN:VTIMEZONE
TZID:Europe/Berlin
X-LIC-LOCATION:Europe/Berlin
BEGIN:DAYLIGHT
TZOFFSETFROM:+0100
TZOFFSETTO:+0200
TZNAME:CEST
DTSTART:19700329T020000
RRULE:FREQ=YEARLY;BYDAY=-1SU;BYMONTH=3
END:DAYLIGHT
BEGIN:STANDARD
TZOFFSETFROM:+0200
TZOFFSETTO:+0100
TZNAME:CET
DTSTART:19701025T030000
RRULE:FREQ=YEARLY;BYDAY=-1SU;BYMONTH=10
END:STANDARD
END:VTIMEZONE
BEGIN:VEVENT
DTEND;TZID=Europe/Berlin:20260603T150000
UID:69e82b39d0730
DTSTAMP:20260422T035817
LOCATION:Weltacker Landhut\, Untere Auenstraße\, Landshut (hinter Hochschule und Agrarbildungszentrum)
DESCRIPTION:Wir erforschen spielerisch\, was auf dem Weltacker wächst und blüht und erkunden\, was davon für unser Essen wichtig ist. Können wir schon etwas ernten\, das unser selbst zubereitetes Mittagessen bereichert? Was bereits in den Beeten wächst braucht unsere pflegenden Hände - mit Hacke und Gießkanne. Kleintiere auf den Pflanzen und im Boden betrachten wir in groß mit Becherlupe und Mikroskop. Vielleicht können wir ja dem  Marienkäfer bei seiner Läusemahlzeit zuschauen?\r\n\r\nDie Veranstaltung ist auch für Kinder und Jugendliche mit geringen Deutschkenntnissen geeignet.
URL;VALUE=URI:https://www.unser-ferienprogramm.de/landshut/veranstaltung.php?id=310372
SUMMARY:Schau genau - Forscher auf dem Weltacker unterwegs
DTSTART;TZID=Europe/Berlin:20260603T100000
END:VEVENT

END:VCALENDAR
