BEGIN:VCALENDAR
VERSION:2.0
PRODID:-//hacksw/handcal//NONSGML v1.0//EN
CALSCALE:GREGORIAN
BEGIN:VTIMEZONE
TZID:Europe/Berlin
X-LIC-LOCATION:Europe/Berlin
BEGIN:DAYLIGHT
TZOFFSETFROM:+0100
TZOFFSETTO:+0200
TZNAME:CEST
DTSTART:19700329T020000
RRULE:FREQ=YEARLY;BYDAY=-1SU;BYMONTH=3
END:DAYLIGHT
BEGIN:STANDARD
TZOFFSETFROM:+0200
TZOFFSETTO:+0100
TZNAME:CET
DTSTART:19701025T030000
RRULE:FREQ=YEARLY;BYDAY=-1SU;BYMONTH=10
END:STANDARD
END:VTIMEZONE
BEGIN:VEVENT
DTEND;TZID=Europe/Berlin:20260528T150000
UID:69e810fbc0c51
DTSTAMP:20260422T020619
LOCATION:Weltacker Landhut\, Untere Auenstraße\, Landshut (hinter Hochschule und Agrarbildungszentrum)
DESCRIPTION:Die Vielfalt am Weltacker erkunden wir über die Samen: was gibt es bei den ganz unterschiedlichen Samen zu entdecken?  Welche Pflanze entsteht aus welchem Samenkorn? Warum Pflanzen kriechen oder klettern - und das ohne Beine! \r\nKann man Samen auch essen oder nur säen? Wir säen und genießen dann in der Pause die selbst verarbeitete Ernte als Stärkung.\r\n\r\nDie Veranstaltung ist auch für Kinder und Jugendliche mit geringen Deutschkenntnissen geeignet.
URL;VALUE=URI:https://www.unser-ferienprogramm.de/landshut/veranstaltung.php?id=310369
SUMMARY:Vom Samen zur Pflanze
DTSTART;TZID=Europe/Berlin:20260528T100000
END:VEVENT

END:VCALENDAR
