BEGIN:VCALENDAR
VERSION:2.0
PRODID:-//hacksw/handcal//NONSGML v1.0//EN
CALSCALE:GREGORIAN
BEGIN:VTIMEZONE
TZID:Europe/Berlin
X-LIC-LOCATION:Europe/Berlin
BEGIN:DAYLIGHT
TZOFFSETFROM:+0100
TZOFFSETTO:+0200
TZNAME:CEST
DTSTART:19700329T020000
RRULE:FREQ=YEARLY;BYDAY=-1SU;BYMONTH=3
END:DAYLIGHT
BEGIN:STANDARD
TZOFFSETFROM:+0200
TZOFFSETTO:+0100
TZNAME:CET
DTSTART:19701025T030000
RRULE:FREQ=YEARLY;BYDAY=-1SU;BYMONTH=10
END:STANDARD
END:VTIMEZONE
BEGIN:VEVENT
DTEND;TZID=Europe/Berlin:20260601T111500
UID:69e810fb49a70
DTSTAMP:20260422T020619
LOCATION:Stadtbücherei im Salzstadel\, Steckengasse 308\, 84028 Landshut
DESCRIPTION:Wir hören die Geschichte von den Stadtmusikanten: der Hahn\, der Esel\, der Hund und die Katze beschließen Musikanten zu werden und erleben ein spannendes Abenteuer mit Bauer Hugo. \r\nDie Kinder sehen auf großformatigen Bildtafeln des "Kamishibai"-Theaters die vorgelesene Geschichte. Dazu erklingen bekannte Kinderlieder\, die nach kurzer Wiederholung bereits mitgesungen werden können. Kleine Instrumente helfen beim Musizieren. \r\n\r\nIm Anschluss an die Geschichte gibt es noch ein kleines Bewegungsspiel. \r\n
URL;VALUE=URI:https://www.unser-ferienprogramm.de/landshut/veranstaltung.php?id=308937
SUMMARY:Erzähltheater mit Musik - Stadtmusikanten auf dem Hühnerhof
DTSTART;TZID=Europe/Berlin:20260601T103000
END:VEVENT

END:VCALENDAR
