BEGIN:VCALENDAR
VERSION:2.0
PRODID:-//hacksw/handcal//NONSGML v1.0//EN
CALSCALE:GREGORIAN
BEGIN:VTIMEZONE
TZID:Europe/Berlin
X-LIC-LOCATION:Europe/Berlin
BEGIN:DAYLIGHT
TZOFFSETFROM:+0100
TZOFFSETTO:+0200
TZNAME:CEST
DTSTART:19700329T020000
RRULE:FREQ=YEARLY;BYDAY=-1SU;BYMONTH=3
END:DAYLIGHT
BEGIN:STANDARD
TZOFFSETFROM:+0200
TZOFFSETTO:+0100
TZNAME:CET
DTSTART:19701025T030000
RRULE:FREQ=YEARLY;BYDAY=-1SU;BYMONTH=10
END:STANDARD
END:VTIMEZONE
BEGIN:VEVENT
DTEND;TZID=Europe/Berlin:20260601T120000
UID:69e811357a044
DTSTAMP:20260422T020717
LOCATION:vhs Landshut\, Ländgasse 41\, 84028 Landshut
DESCRIPTION:In diesem Aquarell-Workshop dreht sich alles um die kleine\, freche Katze\, die gemütlich auf der Kante sitzt und neugierig in die Welt schaut. Mit viel Farbe\, Fantasie und Spaß malen wir unsere ganz persönliche "Kitty Cat" und gestalten daraus ein kleines Kantenhockerchen mit baumelnden Beinen - fürs Regal oder wo auch immer das Kätzchen sitzen darf.\r\nAquarellfarben eignen sich wunderbar zum Loslassen und Entspannen. Spielerisch stärken wir Selbstwahrnehmung\, Freude und das Vertrauen in die eigene Kreativität. In heiteren\, bunten Bildern und einfachen Schritten malen nicht aus\, sondern bewegen uns mit fröhlicher Leichtigkeit über das Papier - bis unsere Katze lebendig wird und ihren Platz findet. Ein kreatives Pfingstferienangebot zum Malen\, Gestalten und Staunen.
URL;VALUE=URI:https://www.unser-ferienprogramm.de/landshut/veranstaltung.php?id=307539
SUMMARY:BeaZaubernde Aquarelle: KITTY CAT\, das Kantenhockerchen
DTSTART;TZID=Europe/Berlin:20260601T100000
END:VEVENT

END:VCALENDAR
