BEGIN:VCALENDAR
VERSION:2.0
PRODID:-//hacksw/handcal//NONSGML v1.0//EN
CALSCALE:GREGORIAN
BEGIN:VTIMEZONE
TZID:Europe/Berlin
X-LIC-LOCATION:Europe/Berlin
BEGIN:DAYLIGHT
TZOFFSETFROM:+0100
TZOFFSETTO:+0200
TZNAME:CEST
DTSTART:19700329T020000
RRULE:FREQ=YEARLY;BYDAY=-1SU;BYMONTH=3
END:DAYLIGHT
BEGIN:STANDARD
TZOFFSETFROM:+0200
TZOFFSETTO:+0100
TZNAME:CET
DTSTART:19701025T030000
RRULE:FREQ=YEARLY;BYDAY=-1SU;BYMONTH=10
END:STANDARD
END:VTIMEZONE
BEGIN:VEVENT
DTEND;TZID=Europe/Berlin:20260527T121500
UID:69e810fa5b235
DTSTAMP:20260422T020618
LOCATION:VHS Landshut\, Ländgasse 41\, 84028 Landshut
DESCRIPTION:Wenn du Lust auf Hawai-Feeling hast\, brauchst du diese Ferien nicht bis nach Hawaii. Schau stattdessen in unserem Ukulele-Workshop vorbei\r\nHeute hast du die Möglichkeit\, eine Ukulele auszuprobieren! Instrumente sind vorhanden und du brauchst keine Vorkenntnisse.\r\nNach einer kurzen Erklärung kannst du bereits loslegen und ein paar Songs spielen\, da die Ukulele nur 4 Saiten hat und die Akkorde leichter zu spielen sind als auf der Gitarre.\r\nDu wirst bestimmt viel Spaß und Freude an ihrem warmen Klang haben. Aloha!
URL;VALUE=URI:https://www.unser-ferienprogramm.de/landshut/veranstaltung.php?id=307532
SUMMARY:Sommer\, Sonne\, Ukulele: Entdecke das Ferien-Hawaii-Feeling mit unserem Ukulele-Workshop!
DTSTART;TZID=Europe/Berlin:20260527T104500
END:VEVENT

END:VCALENDAR
