BEGIN:VCALENDAR
VERSION:2.0
PRODID:-//hacksw/handcal//NONSGML v1.0//EN
CALSCALE:GREGORIAN
BEGIN:VTIMEZONE
TZID:Europe/Berlin
X-LIC-LOCATION:Europe/Berlin
BEGIN:DAYLIGHT
TZOFFSETFROM:+0100
TZOFFSETTO:+0200
TZNAME:CEST
DTSTART:19700329T020000
RRULE:FREQ=YEARLY;BYDAY=-1SU;BYMONTH=3
END:DAYLIGHT
BEGIN:STANDARD
TZOFFSETFROM:+0200
TZOFFSETTO:+0100
TZNAME:CET
DTSTART:19701025T030000
RRULE:FREQ=YEARLY;BYDAY=-1SU;BYMONTH=10
END:STANDARD
END:VTIMEZONE
BEGIN:VEVENT
DTEND;TZID=Europe/Berlin:20260527T103000
UID:69e81120b73b2
DTSTAMP:20260422T020656
LOCATION:vhs Landshut\, Ländgasse 41\, 84029 Landshut
DESCRIPTION:Heute knüpfen wir bunte Freundschaftsbänder in verschiedensten Farben und Mustern. Und durch die besondere Verschlusstechnik könnt ihr sie im Bedarfsfall auch jederzeit problemlos abnehmen und wieder anlegen.
URL;VALUE=URI:https://www.unser-ferienprogramm.de/landshut/veranstaltung.php?id=307530
SUMMARY:Wir machen uns Freundschaftsbänder
DTSTART;TZID=Europe/Berlin:20260527T090000
END:VEVENT

END:VCALENDAR
