BEGIN:VCALENDAR
VERSION:2.0
PRODID:-//hacksw/handcal//NONSGML v1.0//EN
CALSCALE:GREGORIAN
BEGIN:VTIMEZONE
TZID:Europe/Berlin
X-LIC-LOCATION:Europe/Berlin
BEGIN:DAYLIGHT
TZOFFSETFROM:+0100
TZOFFSETTO:+0200
TZNAME:CEST
DTSTART:19700329T020000
RRULE:FREQ=YEARLY;BYDAY=-1SU;BYMONTH=3
END:DAYLIGHT
BEGIN:STANDARD
TZOFFSETFROM:+0200
TZOFFSETTO:+0100
TZNAME:CET
DTSTART:19701025T030000
RRULE:FREQ=YEARLY;BYDAY=-1SU;BYMONTH=10
END:STANDARD
END:VTIMEZONE
BEGIN:VEVENT
DTEND;TZID=Europe/Berlin:20260907T160000
UID:69e82b844c8d1
DTSTAMP:20260422T035932
LOCATION:Jugendkulturzentrum Alte Kaserne Landshut
DESCRIPTION:Wer möchte nicht mal Zirkus-Luft schnuppern? Diese Woche bietet euch die Möglichkeit verschiedene Zirkusdisziplinen im Bereich der Luftakrobatik (Ring/Trapez/Tuch)\, Geschicklichkeit (Jonglage/Flowerstick/Zauberei)\, Gleichgewicht (Kugel/RolaBola/Akrobatik) oder Tanz kennen zu lernen. \r\nAm Ende der Woche gibt es eine große Abschlussshow. Gemeinsame Kennen-\, Gruppen- und Kooperationsspiele lassen euch alle zu einem großen Zirkusteam zusammenwachsen.\r\n\r\nDas Angebot ist besonders an Kinder mit finanzieller\, sozialer und gesellschaftlicher Benachteiligung gerichtet. Daher ist dieses Ferienprogramm inkl. Mittagessen kostenfrei. \r\n\r\nEine Anwesenheit an allen 5 Tagen ist Voraussetzung für die Teilnahme an diesem Wochenprogramm.\r\n\r\nDieses Projekt wird dieses Jahr durch KulturMachtStark / Zirkus für alle e. V. und dem Bundesministerium für Bildung\, Familie\, Senioren\, Frauen und Jugend  gefördert.
URL;VALUE=URI:https://www.unser-ferienprogramm.de/landshut/veranstaltung.php?id=307217
SUMMARY:Zirkus Workshop - mehr als nur Akrobatik (Integrations- und Inklusionsprojekt\, KulturMachtStark)
DTSTART;TZID=Europe/Berlin:20260907T090000
END:VEVENT


BEGIN:VEVENT
DTEND;TZID=Europe/Berlin:20260908T160000
UID:69e82b844c91a1
DTSTAMP:20260422T035932
LOCATION:Jugendkulturzentrum Alte Kaserne Landshut
DESCRIPTION:Wer möchte nicht mal Zirkus-Luft schnuppern? Diese Woche bietet euch die Möglichkeit verschiedene Zirkusdisziplinen im Bereich der Luftakrobatik (Ring/Trapez/Tuch)\, Geschicklichkeit (Jonglage/Flowerstick/Zauberei)\, Gleichgewicht (Kugel/RolaBola/Akrobatik) oder Tanz kennen zu lernen. \r\nAm Ende der Woche gibt es eine große Abschlussshow. Gemeinsame Kennen-\, Gruppen- und Kooperationsspiele lassen euch alle zu einem großen Zirkusteam zusammenwachsen.\r\n\r\nDas Angebot ist besonders an Kinder mit finanzieller\, sozialer und gesellschaftlicher Benachteiligung gerichtet. Daher ist dieses Ferienprogramm inkl. Mittagessen kostenfrei. \r\n\r\nEine Anwesenheit an allen 5 Tagen ist Voraussetzung für die Teilnahme an diesem Wochenprogramm.\r\n\r\nDieses Projekt wird dieses Jahr durch KulturMachtStark / Zirkus für alle e. V. und dem Bundesministerium für Bildung\, Familie\, Senioren\, Frauen und Jugend  gefördert.
URL;VALUE=URI:https://www.unser-ferienprogramm.de/landshut/veranstaltung.php?id=307217
SUMMARY:Zirkus Workshop - mehr als nur Akrobatik (Integrations- und Inklusionsprojekt\, KulturMachtStark)
DTSTART;TZID=Europe/Berlin:20260908T090000
END:VEVENT


BEGIN:VEVENT
DTEND;TZID=Europe/Berlin:20260909T160000
UID:69e82b844c92c2
DTSTAMP:20260422T035932
LOCATION:Jugendkulturzentrum Alte Kaserne Landshut
DESCRIPTION:Wer möchte nicht mal Zirkus-Luft schnuppern? Diese Woche bietet euch die Möglichkeit verschiedene Zirkusdisziplinen im Bereich der Luftakrobatik (Ring/Trapez/Tuch)\, Geschicklichkeit (Jonglage/Flowerstick/Zauberei)\, Gleichgewicht (Kugel/RolaBola/Akrobatik) oder Tanz kennen zu lernen. \r\nAm Ende der Woche gibt es eine große Abschlussshow. Gemeinsame Kennen-\, Gruppen- und Kooperationsspiele lassen euch alle zu einem großen Zirkusteam zusammenwachsen.\r\n\r\nDas Angebot ist besonders an Kinder mit finanzieller\, sozialer und gesellschaftlicher Benachteiligung gerichtet. Daher ist dieses Ferienprogramm inkl. Mittagessen kostenfrei. \r\n\r\nEine Anwesenheit an allen 5 Tagen ist Voraussetzung für die Teilnahme an diesem Wochenprogramm.\r\n\r\nDieses Projekt wird dieses Jahr durch KulturMachtStark / Zirkus für alle e. V. und dem Bundesministerium für Bildung\, Familie\, Senioren\, Frauen und Jugend  gefördert.
URL;VALUE=URI:https://www.unser-ferienprogramm.de/landshut/veranstaltung.php?id=307217
SUMMARY:Zirkus Workshop - mehr als nur Akrobatik (Integrations- und Inklusionsprojekt\, KulturMachtStark)
DTSTART;TZID=Europe/Berlin:20260909T090000
END:VEVENT


BEGIN:VEVENT
DTEND;TZID=Europe/Berlin:20260910T160000
UID:69e82b844c93a3
DTSTAMP:20260422T035932
LOCATION:Jugendkulturzentrum Alte Kaserne Landshut
DESCRIPTION:Wer möchte nicht mal Zirkus-Luft schnuppern? Diese Woche bietet euch die Möglichkeit verschiedene Zirkusdisziplinen im Bereich der Luftakrobatik (Ring/Trapez/Tuch)\, Geschicklichkeit (Jonglage/Flowerstick/Zauberei)\, Gleichgewicht (Kugel/RolaBola/Akrobatik) oder Tanz kennen zu lernen. \r\nAm Ende der Woche gibt es eine große Abschlussshow. Gemeinsame Kennen-\, Gruppen- und Kooperationsspiele lassen euch alle zu einem großen Zirkusteam zusammenwachsen.\r\n\r\nDas Angebot ist besonders an Kinder mit finanzieller\, sozialer und gesellschaftlicher Benachteiligung gerichtet. Daher ist dieses Ferienprogramm inkl. Mittagessen kostenfrei. \r\n\r\nEine Anwesenheit an allen 5 Tagen ist Voraussetzung für die Teilnahme an diesem Wochenprogramm.\r\n\r\nDieses Projekt wird dieses Jahr durch KulturMachtStark / Zirkus für alle e. V. und dem Bundesministerium für Bildung\, Familie\, Senioren\, Frauen und Jugend  gefördert.
URL;VALUE=URI:https://www.unser-ferienprogramm.de/landshut/veranstaltung.php?id=307217
SUMMARY:Zirkus Workshop - mehr als nur Akrobatik (Integrations- und Inklusionsprojekt\, KulturMachtStark)
DTSTART;TZID=Europe/Berlin:20260910T090000
END:VEVENT


BEGIN:VEVENT
DTEND;TZID=Europe/Berlin:20260911T170000
UID:69e82b844c9474
DTSTAMP:20260422T035932
LOCATION:Jugendkulturzentrum Alte Kaserne Landshut
DESCRIPTION:Wer möchte nicht mal Zirkus-Luft schnuppern? Diese Woche bietet euch die Möglichkeit verschiedene Zirkusdisziplinen im Bereich der Luftakrobatik (Ring/Trapez/Tuch)\, Geschicklichkeit (Jonglage/Flowerstick/Zauberei)\, Gleichgewicht (Kugel/RolaBola/Akrobatik) oder Tanz kennen zu lernen. \r\nAm Ende der Woche gibt es eine große Abschlussshow. Gemeinsame Kennen-\, Gruppen- und Kooperationsspiele lassen euch alle zu einem großen Zirkusteam zusammenwachsen.\r\n\r\nDas Angebot ist besonders an Kinder mit finanzieller\, sozialer und gesellschaftlicher Benachteiligung gerichtet. Daher ist dieses Ferienprogramm inkl. Mittagessen kostenfrei. \r\n\r\nEine Anwesenheit an allen 5 Tagen ist Voraussetzung für die Teilnahme an diesem Wochenprogramm.\r\n\r\nDieses Projekt wird dieses Jahr durch KulturMachtStark / Zirkus für alle e. V. und dem Bundesministerium für Bildung\, Familie\, Senioren\, Frauen und Jugend  gefördert.
URL;VALUE=URI:https://www.unser-ferienprogramm.de/landshut/veranstaltung.php?id=307217
SUMMARY:Zirkus Workshop - mehr als nur Akrobatik (Integrations- und Inklusionsprojekt\, KulturMachtStark)
DTSTART;TZID=Europe/Berlin:20260911T090000
END:VEVENT

END:VCALENDAR
