BEGIN:VCALENDAR
VERSION:2.0
PRODID:-//hacksw/handcal//NONSGML v1.0//EN
CALSCALE:GREGORIAN
BEGIN:VTIMEZONE
TZID:Europe/Berlin
X-LIC-LOCATION:Europe/Berlin
BEGIN:DAYLIGHT
TZOFFSETFROM:+0100
TZOFFSETTO:+0200
TZNAME:CEST
DTSTART:19700329T020000
RRULE:FREQ=YEARLY;BYDAY=-1SU;BYMONTH=3
END:DAYLIGHT
BEGIN:STANDARD
TZOFFSETFROM:+0200
TZOFFSETTO:+0100
TZNAME:CET
DTSTART:19701025T030000
RRULE:FREQ=YEARLY;BYDAY=-1SU;BYMONTH=10
END:STANDARD
END:VTIMEZONE
BEGIN:VEVENT
DTEND;TZID=Europe/Berlin:20260817T150000
UID:69e82b850e6bb
DTSTAMP:20260422T035933
LOCATION:TV 64 Landshut\, Breslauerstr. 123\, 84028 Landshut
DESCRIPTION:Erlebe 5 Tage voller Fußball und Spaß in unserem Kick & Fun Fußballcamp. Wir können es gar nicht in Worte fassen\, wie viel Spaß uns die Kick & Fun Fußballcamps machen! Es freut uns riesig\, dass wir schon jede Menge unvergesslich schöne Tage erleben und so viele sympathische Kinder kennenlernen durften.\r\n\r\nDer Preis beinhaltet:\r\n- qualifizierte Betreuung: Montag – Donnerstag: 09:00 – 15:00 Uhr\; Freitag: 09:00 – 13:00 Uhr\r\n- Kick & Fun Trikot\, Trainingsball und Trinkflasche\r\n- täglich warmes Mittagessen\, Obst\, Eis und Getränke\r\n- WERTEVERMITTLUNG\r\n- verschiedene Aufgaben zur Stärkung des Teamgeistes\r\n- Mittagsprogramm mit Betreuung (z.B. Fußballquiz und Spiele)\r\n- Schulung der technischen und taktischen Fähigkeiten\r\n- Abschlussturnier\r\n- Rahmenprogrammpunkte (wie Geschwindigkeitsmessung\, Torwandschießen und Elfmeterkönig)\r\nverschiedene Wettbewerbe\r\n- Erinnerungsurkunde & Medaille\r\n- Champ of the Camp (Soziales Verhalten)\r\n- Champ of the Camp (Leistung)\r\n- verschiedene Preise\r\n\r\nEine Anwesenheit an allen 5 Tagen ist Voraussetzung für die Teilnahme an diesem Wochenprogramm.
URL;VALUE=URI:https://www.unser-ferienprogramm.de/landshut/veranstaltung.php?id=307212
SUMMARY:Kick & Fun Fußballcamp
DTSTART;TZID=Europe/Berlin:20260817T090000
END:VEVENT


BEGIN:VEVENT
DTEND;TZID=Europe/Berlin:20260818T150000
UID:69e82b850e6db1
DTSTAMP:20260422T035933
LOCATION:TV 64 Landshut\, Breslauerstr. 123\, 84028 Landshut
DESCRIPTION:Erlebe 5 Tage voller Fußball und Spaß in unserem Kick & Fun Fußballcamp. Wir können es gar nicht in Worte fassen\, wie viel Spaß uns die Kick & Fun Fußballcamps machen! Es freut uns riesig\, dass wir schon jede Menge unvergesslich schöne Tage erleben und so viele sympathische Kinder kennenlernen durften.\r\n\r\nDer Preis beinhaltet:\r\n- qualifizierte Betreuung: Montag – Donnerstag: 09:00 – 15:00 Uhr\; Freitag: 09:00 – 13:00 Uhr\r\n- Kick & Fun Trikot\, Trainingsball und Trinkflasche\r\n- täglich warmes Mittagessen\, Obst\, Eis und Getränke\r\n- WERTEVERMITTLUNG\r\n- verschiedene Aufgaben zur Stärkung des Teamgeistes\r\n- Mittagsprogramm mit Betreuung (z.B. Fußballquiz und Spiele)\r\n- Schulung der technischen und taktischen Fähigkeiten\r\n- Abschlussturnier\r\n- Rahmenprogrammpunkte (wie Geschwindigkeitsmessung\, Torwandschießen und Elfmeterkönig)\r\nverschiedene Wettbewerbe\r\n- Erinnerungsurkunde & Medaille\r\n- Champ of the Camp (Soziales Verhalten)\r\n- Champ of the Camp (Leistung)\r\n- verschiedene Preise\r\n\r\nEine Anwesenheit an allen 5 Tagen ist Voraussetzung für die Teilnahme an diesem Wochenprogramm.
URL;VALUE=URI:https://www.unser-ferienprogramm.de/landshut/veranstaltung.php?id=307212
SUMMARY:Kick & Fun Fußballcamp
DTSTART;TZID=Europe/Berlin:20260818T090000
END:VEVENT


BEGIN:VEVENT
DTEND;TZID=Europe/Berlin:20260819T150000
UID:69e82b850e6ef2
DTSTAMP:20260422T035933
LOCATION:TV 64 Landshut\, Breslauerstr. 123\, 84028 Landshut
DESCRIPTION:Erlebe 5 Tage voller Fußball und Spaß in unserem Kick & Fun Fußballcamp. Wir können es gar nicht in Worte fassen\, wie viel Spaß uns die Kick & Fun Fußballcamps machen! Es freut uns riesig\, dass wir schon jede Menge unvergesslich schöne Tage erleben und so viele sympathische Kinder kennenlernen durften.\r\n\r\nDer Preis beinhaltet:\r\n- qualifizierte Betreuung: Montag – Donnerstag: 09:00 – 15:00 Uhr\; Freitag: 09:00 – 13:00 Uhr\r\n- Kick & Fun Trikot\, Trainingsball und Trinkflasche\r\n- täglich warmes Mittagessen\, Obst\, Eis und Getränke\r\n- WERTEVERMITTLUNG\r\n- verschiedene Aufgaben zur Stärkung des Teamgeistes\r\n- Mittagsprogramm mit Betreuung (z.B. Fußballquiz und Spiele)\r\n- Schulung der technischen und taktischen Fähigkeiten\r\n- Abschlussturnier\r\n- Rahmenprogrammpunkte (wie Geschwindigkeitsmessung\, Torwandschießen und Elfmeterkönig)\r\nverschiedene Wettbewerbe\r\n- Erinnerungsurkunde & Medaille\r\n- Champ of the Camp (Soziales Verhalten)\r\n- Champ of the Camp (Leistung)\r\n- verschiedene Preise\r\n\r\nEine Anwesenheit an allen 5 Tagen ist Voraussetzung für die Teilnahme an diesem Wochenprogramm.
URL;VALUE=URI:https://www.unser-ferienprogramm.de/landshut/veranstaltung.php?id=307212
SUMMARY:Kick & Fun Fußballcamp
DTSTART;TZID=Europe/Berlin:20260819T090000
END:VEVENT


BEGIN:VEVENT
DTEND;TZID=Europe/Berlin:20260820T150000
UID:69e82b850e6ff3
DTSTAMP:20260422T035933
LOCATION:TV 64 Landshut\, Breslauerstr. 123\, 84028 Landshut
DESCRIPTION:Erlebe 5 Tage voller Fußball und Spaß in unserem Kick & Fun Fußballcamp. Wir können es gar nicht in Worte fassen\, wie viel Spaß uns die Kick & Fun Fußballcamps machen! Es freut uns riesig\, dass wir schon jede Menge unvergesslich schöne Tage erleben und so viele sympathische Kinder kennenlernen durften.\r\n\r\nDer Preis beinhaltet:\r\n- qualifizierte Betreuung: Montag – Donnerstag: 09:00 – 15:00 Uhr\; Freitag: 09:00 – 13:00 Uhr\r\n- Kick & Fun Trikot\, Trainingsball und Trinkflasche\r\n- täglich warmes Mittagessen\, Obst\, Eis und Getränke\r\n- WERTEVERMITTLUNG\r\n- verschiedene Aufgaben zur Stärkung des Teamgeistes\r\n- Mittagsprogramm mit Betreuung (z.B. Fußballquiz und Spiele)\r\n- Schulung der technischen und taktischen Fähigkeiten\r\n- Abschlussturnier\r\n- Rahmenprogrammpunkte (wie Geschwindigkeitsmessung\, Torwandschießen und Elfmeterkönig)\r\nverschiedene Wettbewerbe\r\n- Erinnerungsurkunde & Medaille\r\n- Champ of the Camp (Soziales Verhalten)\r\n- Champ of the Camp (Leistung)\r\n- verschiedene Preise\r\n\r\nEine Anwesenheit an allen 5 Tagen ist Voraussetzung für die Teilnahme an diesem Wochenprogramm.
URL;VALUE=URI:https://www.unser-ferienprogramm.de/landshut/veranstaltung.php?id=307212
SUMMARY:Kick & Fun Fußballcamp
DTSTART;TZID=Europe/Berlin:20260820T090000
END:VEVENT


BEGIN:VEVENT
DTEND;TZID=Europe/Berlin:20260821T130000
UID:69e82b850e70d4
DTSTAMP:20260422T035933
LOCATION:TV 64 Landshut\, Breslauerstr. 123\, 84028 Landshut
DESCRIPTION:Erlebe 5 Tage voller Fußball und Spaß in unserem Kick & Fun Fußballcamp. Wir können es gar nicht in Worte fassen\, wie viel Spaß uns die Kick & Fun Fußballcamps machen! Es freut uns riesig\, dass wir schon jede Menge unvergesslich schöne Tage erleben und so viele sympathische Kinder kennenlernen durften.\r\n\r\nDer Preis beinhaltet:\r\n- qualifizierte Betreuung: Montag – Donnerstag: 09:00 – 15:00 Uhr\; Freitag: 09:00 – 13:00 Uhr\r\n- Kick & Fun Trikot\, Trainingsball und Trinkflasche\r\n- täglich warmes Mittagessen\, Obst\, Eis und Getränke\r\n- WERTEVERMITTLUNG\r\n- verschiedene Aufgaben zur Stärkung des Teamgeistes\r\n- Mittagsprogramm mit Betreuung (z.B. Fußballquiz und Spiele)\r\n- Schulung der technischen und taktischen Fähigkeiten\r\n- Abschlussturnier\r\n- Rahmenprogrammpunkte (wie Geschwindigkeitsmessung\, Torwandschießen und Elfmeterkönig)\r\nverschiedene Wettbewerbe\r\n- Erinnerungsurkunde & Medaille\r\n- Champ of the Camp (Soziales Verhalten)\r\n- Champ of the Camp (Leistung)\r\n- verschiedene Preise\r\n\r\nEine Anwesenheit an allen 5 Tagen ist Voraussetzung für die Teilnahme an diesem Wochenprogramm.
URL;VALUE=URI:https://www.unser-ferienprogramm.de/landshut/veranstaltung.php?id=307212
SUMMARY:Kick & Fun Fußballcamp
DTSTART;TZID=Europe/Berlin:20260821T090000
END:VEVENT

END:VCALENDAR
