BEGIN:VCALENDAR
VERSION:2.0
PRODID:-//hacksw/handcal//NONSGML v1.0//EN
CALSCALE:GREGORIAN
BEGIN:VTIMEZONE
TZID:Europe/Berlin
X-LIC-LOCATION:Europe/Berlin
BEGIN:DAYLIGHT
TZOFFSETFROM:+0100
TZOFFSETTO:+0200
TZNAME:CEST
DTSTART:19700329T020000
RRULE:FREQ=YEARLY;BYDAY=-1SU;BYMONTH=3
END:DAYLIGHT
BEGIN:STANDARD
TZOFFSETFROM:+0200
TZOFFSETTO:+0100
TZNAME:CET
DTSTART:19701025T030000
RRULE:FREQ=YEARLY;BYDAY=-1SU;BYMONTH=10
END:STANDARD
END:VTIMEZONE
BEGIN:VEVENT
DTEND;TZID=Europe/Berlin:20260810T160000
UID:69e82b60d6ab2
DTSTAMP:20260422T035856
LOCATION:Jugendkulturzentrum Alte Kaserne\, Liesl-Karlstadt-Weg 4\, 84036 Landshut
DESCRIPTION:Action\, Kreativität und Natur - die perfekte Ferienwoche!\r\n\r\nBei der Erlebniswoche erwartet die Kinder eine abwechslungsreiche Ferienfreizeit\, bei der jeden Tag ein anderer Programmpunkt stattfindet. Bei unserem aufregenden Angebot aus unter anderem Kooperationsspielen\, Survivaltraining\, GPS-Schnitzeljagd\, Baumklettern und einem Bastelprojekt ist für alle das Richtige dabei.\r\n\r\nIm Preis enthalten sind die fachkundige Betreuung\, das Programm inklusive verschiedener Materialien und die gemeinsam zubereitete Mittagsverpflegung.\r\n\r\nBei der Erlebniswoche können sich die Kinder auf eine Woche voller Abwechslung und Abenteuer freuen!\r\n\r\nEine Anwesenheit an allen 5 Tagen ist Voraussetzung für die Teilnahme an diesem Wochenprogramm. Am Freitag kann eine Abholung zwischen 14:00-15:00 Uhr stattfinden.
URL;VALUE=URI:https://www.unser-ferienprogramm.de/landshut/veranstaltung.php?id=307209
SUMMARY:Erlebniswoche mit simply outdoor
DTSTART;TZID=Europe/Berlin:20260810T080000
END:VEVENT


BEGIN:VEVENT
DTEND;TZID=Europe/Berlin:20260811T160000
UID:69e82b60d6adc1
DTSTAMP:20260422T035856
LOCATION:Jugendkulturzentrum Alte Kaserne\, Liesl-Karlstadt-Weg 4\, 84036 Landshut
DESCRIPTION:Action\, Kreativität und Natur - die perfekte Ferienwoche!\r\n\r\nBei der Erlebniswoche erwartet die Kinder eine abwechslungsreiche Ferienfreizeit\, bei der jeden Tag ein anderer Programmpunkt stattfindet. Bei unserem aufregenden Angebot aus unter anderem Kooperationsspielen\, Survivaltraining\, GPS-Schnitzeljagd\, Baumklettern und einem Bastelprojekt ist für alle das Richtige dabei.\r\n\r\nIm Preis enthalten sind die fachkundige Betreuung\, das Programm inklusive verschiedener Materialien und die gemeinsam zubereitete Mittagsverpflegung.\r\n\r\nBei der Erlebniswoche können sich die Kinder auf eine Woche voller Abwechslung und Abenteuer freuen!\r\n\r\nEine Anwesenheit an allen 5 Tagen ist Voraussetzung für die Teilnahme an diesem Wochenprogramm. Am Freitag kann eine Abholung zwischen 14:00-15:00 Uhr stattfinden.
URL;VALUE=URI:https://www.unser-ferienprogramm.de/landshut/veranstaltung.php?id=307209
SUMMARY:Erlebniswoche mit simply outdoor
DTSTART;TZID=Europe/Berlin:20260811T080000
END:VEVENT


BEGIN:VEVENT
DTEND;TZID=Europe/Berlin:20260812T160000
UID:69e82b60d6ae92
DTSTAMP:20260422T035856
LOCATION:Jugendkulturzentrum Alte Kaserne\, Liesl-Karlstadt-Weg 4\, 84036 Landshut
DESCRIPTION:Action\, Kreativität und Natur - die perfekte Ferienwoche!\r\n\r\nBei der Erlebniswoche erwartet die Kinder eine abwechslungsreiche Ferienfreizeit\, bei der jeden Tag ein anderer Programmpunkt stattfindet. Bei unserem aufregenden Angebot aus unter anderem Kooperationsspielen\, Survivaltraining\, GPS-Schnitzeljagd\, Baumklettern und einem Bastelprojekt ist für alle das Richtige dabei.\r\n\r\nIm Preis enthalten sind die fachkundige Betreuung\, das Programm inklusive verschiedener Materialien und die gemeinsam zubereitete Mittagsverpflegung.\r\n\r\nBei der Erlebniswoche können sich die Kinder auf eine Woche voller Abwechslung und Abenteuer freuen!\r\n\r\nEine Anwesenheit an allen 5 Tagen ist Voraussetzung für die Teilnahme an diesem Wochenprogramm. Am Freitag kann eine Abholung zwischen 14:00-15:00 Uhr stattfinden.
URL;VALUE=URI:https://www.unser-ferienprogramm.de/landshut/veranstaltung.php?id=307209
SUMMARY:Erlebniswoche mit simply outdoor
DTSTART;TZID=Europe/Berlin:20260812T080000
END:VEVENT


BEGIN:VEVENT
DTEND;TZID=Europe/Berlin:20260813T160000
UID:69e82b60d6af43
DTSTAMP:20260422T035856
LOCATION:Jugendkulturzentrum Alte Kaserne\, Liesl-Karlstadt-Weg 4\, 84036 Landshut
DESCRIPTION:Action\, Kreativität und Natur - die perfekte Ferienwoche!\r\n\r\nBei der Erlebniswoche erwartet die Kinder eine abwechslungsreiche Ferienfreizeit\, bei der jeden Tag ein anderer Programmpunkt stattfindet. Bei unserem aufregenden Angebot aus unter anderem Kooperationsspielen\, Survivaltraining\, GPS-Schnitzeljagd\, Baumklettern und einem Bastelprojekt ist für alle das Richtige dabei.\r\n\r\nIm Preis enthalten sind die fachkundige Betreuung\, das Programm inklusive verschiedener Materialien und die gemeinsam zubereitete Mittagsverpflegung.\r\n\r\nBei der Erlebniswoche können sich die Kinder auf eine Woche voller Abwechslung und Abenteuer freuen!\r\n\r\nEine Anwesenheit an allen 5 Tagen ist Voraussetzung für die Teilnahme an diesem Wochenprogramm. Am Freitag kann eine Abholung zwischen 14:00-15:00 Uhr stattfinden.
URL;VALUE=URI:https://www.unser-ferienprogramm.de/landshut/veranstaltung.php?id=307209
SUMMARY:Erlebniswoche mit simply outdoor
DTSTART;TZID=Europe/Berlin:20260813T080000
END:VEVENT


BEGIN:VEVENT
DTEND;TZID=Europe/Berlin:20260814T150000
UID:69e82b60d6afd4
DTSTAMP:20260422T035856
LOCATION:Jugendkulturzentrum Alte Kaserne\, Liesl-Karlstadt-Weg 4\, 84036 Landshut
DESCRIPTION:Action\, Kreativität und Natur - die perfekte Ferienwoche!\r\n\r\nBei der Erlebniswoche erwartet die Kinder eine abwechslungsreiche Ferienfreizeit\, bei der jeden Tag ein anderer Programmpunkt stattfindet. Bei unserem aufregenden Angebot aus unter anderem Kooperationsspielen\, Survivaltraining\, GPS-Schnitzeljagd\, Baumklettern und einem Bastelprojekt ist für alle das Richtige dabei.\r\n\r\nIm Preis enthalten sind die fachkundige Betreuung\, das Programm inklusive verschiedener Materialien und die gemeinsam zubereitete Mittagsverpflegung.\r\n\r\nBei der Erlebniswoche können sich die Kinder auf eine Woche voller Abwechslung und Abenteuer freuen!\r\n\r\nEine Anwesenheit an allen 5 Tagen ist Voraussetzung für die Teilnahme an diesem Wochenprogramm. Am Freitag kann eine Abholung zwischen 14:00-15:00 Uhr stattfinden.
URL;VALUE=URI:https://www.unser-ferienprogramm.de/landshut/veranstaltung.php?id=307209
SUMMARY:Erlebniswoche mit simply outdoor
DTSTART;TZID=Europe/Berlin:20260814T080000
END:VEVENT

END:VCALENDAR
