BEGIN:VCALENDAR
VERSION:2.0
PRODID:-//hacksw/handcal//NONSGML v1.0//EN
CALSCALE:GREGORIAN
BEGIN:VTIMEZONE
TZID:Europe/Berlin
X-LIC-LOCATION:Europe/Berlin
BEGIN:DAYLIGHT
TZOFFSETFROM:+0100
TZOFFSETTO:+0200
TZNAME:CEST
DTSTART:19700329T020000
RRULE:FREQ=YEARLY;BYDAY=-1SU;BYMONTH=3
END:DAYLIGHT
BEGIN:STANDARD
TZOFFSETFROM:+0200
TZOFFSETTO:+0100
TZNAME:CET
DTSTART:19701025T030000
RRULE:FREQ=YEARLY;BYDAY=-1SU;BYMONTH=10
END:STANDARD
END:VTIMEZONE
BEGIN:VEVENT
DTEND;TZID=Europe/Berlin:20260526T160000
UID:69e8111f36174
DTSTAMP:20260422T020655
LOCATION:Jugendkulturzentrum Alte Kaserne\, Liesl-Karlstadt-Weg 4\, 84036 Landshut
DESCRIPTION:Action\, Kreativität und Natur - die perfekte Ferienwoche!\r\n\r\nBei der Erlebniswoche erwartet die Kinder eine abwechslungsreiche Ferienfreizeit\, bei der jeden Tag ein anderer Programmpunkt stattfindet. Bei unserem aufregenden Angebot aus unter anderem Kooperationsspielen\, Survivaltraining\, GPS-Schnitzeljagd\, Baumklettern und einem Bastelprojekt ist für alle das Richtige dabei.\r\n\r\nIm Preis enthalten sind die fachkundige Betreuung\, das Programm inklusive verschiedener Materialien und die gemeinsam zubereitete Mittagsverpflegung.\r\n\r\nBei der Erlbeniswoche können sich die Kinder auf eine Woche voller Abwechslung und Abenteuer freuen!\r\n\r\nEine Anwesenheit an allen 4 Tagen ist Voraussetzung für die Teilnahme an diesem Wochenprogramm.
URL;VALUE=URI:https://www.unser-ferienprogramm.de/landshut/veranstaltung.php?id=307208
SUMMARY:Erlebniswoche mit simply outdoor
DTSTART;TZID=Europe/Berlin:20260526T080000
END:VEVENT


BEGIN:VEVENT
DTEND;TZID=Europe/Berlin:20260527T160000
UID:69e8111f361b11
DTSTAMP:20260422T020655
LOCATION:Jugendkulturzentrum Alte Kaserne\, Liesl-Karlstadt-Weg 4\, 84036 Landshut
DESCRIPTION:Action\, Kreativität und Natur - die perfekte Ferienwoche!\r\n\r\nBei der Erlebniswoche erwartet die Kinder eine abwechslungsreiche Ferienfreizeit\, bei der jeden Tag ein anderer Programmpunkt stattfindet. Bei unserem aufregenden Angebot aus unter anderem Kooperationsspielen\, Survivaltraining\, GPS-Schnitzeljagd\, Baumklettern und einem Bastelprojekt ist für alle das Richtige dabei.\r\n\r\nIm Preis enthalten sind die fachkundige Betreuung\, das Programm inklusive verschiedener Materialien und die gemeinsam zubereitete Mittagsverpflegung.\r\n\r\nBei der Erlbeniswoche können sich die Kinder auf eine Woche voller Abwechslung und Abenteuer freuen!\r\n\r\nEine Anwesenheit an allen 4 Tagen ist Voraussetzung für die Teilnahme an diesem Wochenprogramm.
URL;VALUE=URI:https://www.unser-ferienprogramm.de/landshut/veranstaltung.php?id=307208
SUMMARY:Erlebniswoche mit simply outdoor
DTSTART;TZID=Europe/Berlin:20260527T080000
END:VEVENT


BEGIN:VEVENT
DTEND;TZID=Europe/Berlin:20260528T160000
UID:69e8111f361c32
DTSTAMP:20260422T020655
LOCATION:Jugendkulturzentrum Alte Kaserne\, Liesl-Karlstadt-Weg 4\, 84036 Landshut
DESCRIPTION:Action\, Kreativität und Natur - die perfekte Ferienwoche!\r\n\r\nBei der Erlebniswoche erwartet die Kinder eine abwechslungsreiche Ferienfreizeit\, bei der jeden Tag ein anderer Programmpunkt stattfindet. Bei unserem aufregenden Angebot aus unter anderem Kooperationsspielen\, Survivaltraining\, GPS-Schnitzeljagd\, Baumklettern und einem Bastelprojekt ist für alle das Richtige dabei.\r\n\r\nIm Preis enthalten sind die fachkundige Betreuung\, das Programm inklusive verschiedener Materialien und die gemeinsam zubereitete Mittagsverpflegung.\r\n\r\nBei der Erlbeniswoche können sich die Kinder auf eine Woche voller Abwechslung und Abenteuer freuen!\r\n\r\nEine Anwesenheit an allen 4 Tagen ist Voraussetzung für die Teilnahme an diesem Wochenprogramm.
URL;VALUE=URI:https://www.unser-ferienprogramm.de/landshut/veranstaltung.php?id=307208
SUMMARY:Erlebniswoche mit simply outdoor
DTSTART;TZID=Europe/Berlin:20260528T080000
END:VEVENT


BEGIN:VEVENT
DTEND;TZID=Europe/Berlin:20260529T160000
UID:69e8111f361d13
DTSTAMP:20260422T020655
LOCATION:Jugendkulturzentrum Alte Kaserne\, Liesl-Karlstadt-Weg 4\, 84036 Landshut
DESCRIPTION:Action\, Kreativität und Natur - die perfekte Ferienwoche!\r\n\r\nBei der Erlebniswoche erwartet die Kinder eine abwechslungsreiche Ferienfreizeit\, bei der jeden Tag ein anderer Programmpunkt stattfindet. Bei unserem aufregenden Angebot aus unter anderem Kooperationsspielen\, Survivaltraining\, GPS-Schnitzeljagd\, Baumklettern und einem Bastelprojekt ist für alle das Richtige dabei.\r\n\r\nIm Preis enthalten sind die fachkundige Betreuung\, das Programm inklusive verschiedener Materialien und die gemeinsam zubereitete Mittagsverpflegung.\r\n\r\nBei der Erlbeniswoche können sich die Kinder auf eine Woche voller Abwechslung und Abenteuer freuen!\r\n\r\nEine Anwesenheit an allen 4 Tagen ist Voraussetzung für die Teilnahme an diesem Wochenprogramm.
URL;VALUE=URI:https://www.unser-ferienprogramm.de/landshut/veranstaltung.php?id=307208
SUMMARY:Erlebniswoche mit simply outdoor
DTSTART;TZID=Europe/Berlin:20260529T080000
END:VEVENT

END:VCALENDAR
