BEGIN:VCALENDAR
VERSION:2.0
PRODID:-//hacksw/handcal//NONSGML v1.0//EN
CALSCALE:GREGORIAN
BEGIN:VTIMEZONE
TZID:Europe/Berlin
X-LIC-LOCATION:Europe/Berlin
BEGIN:DAYLIGHT
TZOFFSETFROM:+0100
TZOFFSETTO:+0200
TZNAME:CEST
DTSTART:19700329T020000
RRULE:FREQ=YEARLY;BYDAY=-1SU;BYMONTH=3
END:DAYLIGHT
BEGIN:STANDARD
TZOFFSETFROM:+0200
TZOFFSETTO:+0100
TZNAME:CET
DTSTART:19701025T030000
RRULE:FREQ=YEARLY;BYDAY=-1SU;BYMONTH=10
END:STANDARD
END:VTIMEZONE
BEGIN:VEVENT
DTEND;TZID=Europe/Berlin:20260803T160000
UID:69e82b5fc93d9
DTSTAMP:20260422T035855
LOCATION:Ballsporthalle gegenüber der Alten Kaserne
DESCRIPTION:Einem Weltmeister ganz nah! \r\nBreakdance und Hip Hop ist ganz leicht mit den richtigen Tricks\, welche ihr hier kennen lernt!\r\nGemeinsam erforschen wir eure eigenen Talente und jeder kann diese mit einbringen!\r\nNicht nur basic Moves wie auf TikTok\, sondern eine abgefahrene Choreografie\, die euch Weltmeister Ditto ganz persönlich beibringt und welche ihr selbstständig beim großen Finale präsentiert.\r\nEuch erwarten coole spielerische Freizeitaktivitäten\, Dance Battles und viel Spaß!\r\nMit viel Glück verrät Ditto euch ein paar seiner Erfolgsgeheimnisse...\r\nAlso worauf wartet ihr noch?\r\nKommt jetzt zu unseren Dance Tagen!\r\n\r\nohne Übernachtung\, Montag bis Donnerstag von je 11:00 bis 16:00 Uhr und Freitag von 11:00 bis 14:00 Uhr
URL;VALUE=URI:https://www.unser-ferienprogramm.de/landshut/veranstaltung.php?id=307196
SUMMARY:Dance Week
DTSTART;TZID=Europe/Berlin:20260803T110000
END:VEVENT


BEGIN:VEVENT
DTEND;TZID=Europe/Berlin:20260804T160000
UID:69e82b5fc941e1
DTSTAMP:20260422T035855
LOCATION:Ballsporthalle gegenüber der Alten Kaserne
DESCRIPTION:Einem Weltmeister ganz nah! \r\nBreakdance und Hip Hop ist ganz leicht mit den richtigen Tricks\, welche ihr hier kennen lernt!\r\nGemeinsam erforschen wir eure eigenen Talente und jeder kann diese mit einbringen!\r\nNicht nur basic Moves wie auf TikTok\, sondern eine abgefahrene Choreografie\, die euch Weltmeister Ditto ganz persönlich beibringt und welche ihr selbstständig beim großen Finale präsentiert.\r\nEuch erwarten coole spielerische Freizeitaktivitäten\, Dance Battles und viel Spaß!\r\nMit viel Glück verrät Ditto euch ein paar seiner Erfolgsgeheimnisse...\r\nAlso worauf wartet ihr noch?\r\nKommt jetzt zu unseren Dance Tagen!\r\n\r\nohne Übernachtung\, Montag bis Donnerstag von je 11:00 bis 16:00 Uhr und Freitag von 11:00 bis 14:00 Uhr
URL;VALUE=URI:https://www.unser-ferienprogramm.de/landshut/veranstaltung.php?id=307196
SUMMARY:Dance Week
DTSTART;TZID=Europe/Berlin:20260804T110000
END:VEVENT


BEGIN:VEVENT
DTEND;TZID=Europe/Berlin:20260805T160000
UID:69e82b5fc94302
DTSTAMP:20260422T035855
LOCATION:Ballsporthalle gegenüber der Alten Kaserne
DESCRIPTION:Einem Weltmeister ganz nah! \r\nBreakdance und Hip Hop ist ganz leicht mit den richtigen Tricks\, welche ihr hier kennen lernt!\r\nGemeinsam erforschen wir eure eigenen Talente und jeder kann diese mit einbringen!\r\nNicht nur basic Moves wie auf TikTok\, sondern eine abgefahrene Choreografie\, die euch Weltmeister Ditto ganz persönlich beibringt und welche ihr selbstständig beim großen Finale präsentiert.\r\nEuch erwarten coole spielerische Freizeitaktivitäten\, Dance Battles und viel Spaß!\r\nMit viel Glück verrät Ditto euch ein paar seiner Erfolgsgeheimnisse...\r\nAlso worauf wartet ihr noch?\r\nKommt jetzt zu unseren Dance Tagen!\r\n\r\nohne Übernachtung\, Montag bis Donnerstag von je 11:00 bis 16:00 Uhr und Freitag von 11:00 bis 14:00 Uhr
URL;VALUE=URI:https://www.unser-ferienprogramm.de/landshut/veranstaltung.php?id=307196
SUMMARY:Dance Week
DTSTART;TZID=Europe/Berlin:20260805T110000
END:VEVENT


BEGIN:VEVENT
DTEND;TZID=Europe/Berlin:20260806T160000
UID:69e82b5fc943e3
DTSTAMP:20260422T035855
LOCATION:Ballsporthalle gegenüber der Alten Kaserne
DESCRIPTION:Einem Weltmeister ganz nah! \r\nBreakdance und Hip Hop ist ganz leicht mit den richtigen Tricks\, welche ihr hier kennen lernt!\r\nGemeinsam erforschen wir eure eigenen Talente und jeder kann diese mit einbringen!\r\nNicht nur basic Moves wie auf TikTok\, sondern eine abgefahrene Choreografie\, die euch Weltmeister Ditto ganz persönlich beibringt und welche ihr selbstständig beim großen Finale präsentiert.\r\nEuch erwarten coole spielerische Freizeitaktivitäten\, Dance Battles und viel Spaß!\r\nMit viel Glück verrät Ditto euch ein paar seiner Erfolgsgeheimnisse...\r\nAlso worauf wartet ihr noch?\r\nKommt jetzt zu unseren Dance Tagen!\r\n\r\nohne Übernachtung\, Montag bis Donnerstag von je 11:00 bis 16:00 Uhr und Freitag von 11:00 bis 14:00 Uhr
URL;VALUE=URI:https://www.unser-ferienprogramm.de/landshut/veranstaltung.php?id=307196
SUMMARY:Dance Week
DTSTART;TZID=Europe/Berlin:20260806T110000
END:VEVENT


BEGIN:VEVENT
DTEND;TZID=Europe/Berlin:20260807T140000
UID:69e82b5fc944a4
DTSTAMP:20260422T035855
LOCATION:Ballsporthalle gegenüber der Alten Kaserne
DESCRIPTION:Einem Weltmeister ganz nah! \r\nBreakdance und Hip Hop ist ganz leicht mit den richtigen Tricks\, welche ihr hier kennen lernt!\r\nGemeinsam erforschen wir eure eigenen Talente und jeder kann diese mit einbringen!\r\nNicht nur basic Moves wie auf TikTok\, sondern eine abgefahrene Choreografie\, die euch Weltmeister Ditto ganz persönlich beibringt und welche ihr selbstständig beim großen Finale präsentiert.\r\nEuch erwarten coole spielerische Freizeitaktivitäten\, Dance Battles und viel Spaß!\r\nMit viel Glück verrät Ditto euch ein paar seiner Erfolgsgeheimnisse...\r\nAlso worauf wartet ihr noch?\r\nKommt jetzt zu unseren Dance Tagen!\r\n\r\nohne Übernachtung\, Montag bis Donnerstag von je 11:00 bis 16:00 Uhr und Freitag von 11:00 bis 14:00 Uhr
URL;VALUE=URI:https://www.unser-ferienprogramm.de/landshut/veranstaltung.php?id=307196
SUMMARY:Dance Week
DTSTART;TZID=Europe/Berlin:20260807T110000
END:VEVENT

END:VCALENDAR
