BEGIN:VCALENDAR
VERSION:2.0
PRODID:-//hacksw/handcal//NONSGML v1.0//EN
CALSCALE:GREGORIAN
BEGIN:VTIMEZONE
TZID:Europe/Berlin
X-LIC-LOCATION:Europe/Berlin
BEGIN:DAYLIGHT
TZOFFSETFROM:+0100
TZOFFSETTO:+0200
TZNAME:CEST
DTSTART:19700329T020000
RRULE:FREQ=YEARLY;BYDAY=-1SU;BYMONTH=3
END:DAYLIGHT
BEGIN:STANDARD
TZOFFSETFROM:+0200
TZOFFSETTO:+0100
TZNAME:CET
DTSTART:19701025T030000
RRULE:FREQ=YEARLY;BYDAY=-1SU;BYMONTH=10
END:STANDARD
END:VTIMEZONE
BEGIN:VEVENT
DTEND;TZID=Europe/Berlin:20260817T160000
UID:69e82b839f23f
DTSTAMP:20260422T035931
LOCATION:Jugendkulturzentrum Alte Kaserne\, Liesl-Karlstadt-Weg 4\, 84036 Landshut
DESCRIPTION:In den Ferien zu Hause? Auch in deiner Heimat gibt es Spannendes zu erleben! Komm mit auf eine Reise in die bunte Welt des Circus! \r\nHier gibt es viel zu entdecken: Du kannst ausprobieren\, wie man Bälle jongliert\, einen Flowerstick in der Luft hält oder Tricks mit dem Diabolo macht. Diese und noch mehr Requisiten warten darauf\, mit Dir zusammen die Schwerkraft zu überlisten. \r\nWer Lust hat\, kann auch als Clown oder andere komische Figur die Bühne erobern. Was auch immer Deine Begeisterung weckt\, hier geht es um die Freude am Ausprobieren und das Kennenlernen von Neuem\, um Spiel\, Spaß und um das Erreichen eines gemeinsamen Ziels mit vereinten Kräften:\r\n\r\nUnsere Aufführung! \r\nDenn was wäre der Circus ohne Publikum\, Lampenfieber und Applaus? \r\nUnd am Allerwichtigsten: was wäre diese wunderbare Woche ohne DICH? \r\n\r\nZum Abschluss des Circus Camps findet die Aufführung am Freitag um 14:00 Uhr statt\, bei der die Eltern\, Geschwister und Verwandte dazu herzlich eingeladen sind.\r\n\r\nEine Anwesenheit an allen 5 Tagen ist Voraussetzung für die Teilnahme an diesem Wochenprogramm.
URL;VALUE=URI:https://www.unser-ferienprogramm.de/landshut/veranstaltung.php?id=307187
SUMMARY:Circus Camp 
DTSTART;TZID=Europe/Berlin:20260817T090000
END:VEVENT


BEGIN:VEVENT
DTEND;TZID=Europe/Berlin:20260818T160000
UID:69e82b839f2831
DTSTAMP:20260422T035931
LOCATION:Jugendkulturzentrum Alte Kaserne\, Liesl-Karlstadt-Weg 4\, 84036 Landshut
DESCRIPTION:In den Ferien zu Hause? Auch in deiner Heimat gibt es Spannendes zu erleben! Komm mit auf eine Reise in die bunte Welt des Circus! \r\nHier gibt es viel zu entdecken: Du kannst ausprobieren\, wie man Bälle jongliert\, einen Flowerstick in der Luft hält oder Tricks mit dem Diabolo macht. Diese und noch mehr Requisiten warten darauf\, mit Dir zusammen die Schwerkraft zu überlisten. \r\nWer Lust hat\, kann auch als Clown oder andere komische Figur die Bühne erobern. Was auch immer Deine Begeisterung weckt\, hier geht es um die Freude am Ausprobieren und das Kennenlernen von Neuem\, um Spiel\, Spaß und um das Erreichen eines gemeinsamen Ziels mit vereinten Kräften:\r\n\r\nUnsere Aufführung! \r\nDenn was wäre der Circus ohne Publikum\, Lampenfieber und Applaus? \r\nUnd am Allerwichtigsten: was wäre diese wunderbare Woche ohne DICH? \r\n\r\nZum Abschluss des Circus Camps findet die Aufführung am Freitag um 14:00 Uhr statt\, bei der die Eltern\, Geschwister und Verwandte dazu herzlich eingeladen sind.\r\n\r\nEine Anwesenheit an allen 5 Tagen ist Voraussetzung für die Teilnahme an diesem Wochenprogramm.
URL;VALUE=URI:https://www.unser-ferienprogramm.de/landshut/veranstaltung.php?id=307187
SUMMARY:Circus Camp 
DTSTART;TZID=Europe/Berlin:20260818T090000
END:VEVENT


BEGIN:VEVENT
DTEND;TZID=Europe/Berlin:20260819T160000
UID:69e82b839f2962
DTSTAMP:20260422T035931
LOCATION:Jugendkulturzentrum Alte Kaserne\, Liesl-Karlstadt-Weg 4\, 84036 Landshut
DESCRIPTION:In den Ferien zu Hause? Auch in deiner Heimat gibt es Spannendes zu erleben! Komm mit auf eine Reise in die bunte Welt des Circus! \r\nHier gibt es viel zu entdecken: Du kannst ausprobieren\, wie man Bälle jongliert\, einen Flowerstick in der Luft hält oder Tricks mit dem Diabolo macht. Diese und noch mehr Requisiten warten darauf\, mit Dir zusammen die Schwerkraft zu überlisten. \r\nWer Lust hat\, kann auch als Clown oder andere komische Figur die Bühne erobern. Was auch immer Deine Begeisterung weckt\, hier geht es um die Freude am Ausprobieren und das Kennenlernen von Neuem\, um Spiel\, Spaß und um das Erreichen eines gemeinsamen Ziels mit vereinten Kräften:\r\n\r\nUnsere Aufführung! \r\nDenn was wäre der Circus ohne Publikum\, Lampenfieber und Applaus? \r\nUnd am Allerwichtigsten: was wäre diese wunderbare Woche ohne DICH? \r\n\r\nZum Abschluss des Circus Camps findet die Aufführung am Freitag um 14:00 Uhr statt\, bei der die Eltern\, Geschwister und Verwandte dazu herzlich eingeladen sind.\r\n\r\nEine Anwesenheit an allen 5 Tagen ist Voraussetzung für die Teilnahme an diesem Wochenprogramm.
URL;VALUE=URI:https://www.unser-ferienprogramm.de/landshut/veranstaltung.php?id=307187
SUMMARY:Circus Camp 
DTSTART;TZID=Europe/Berlin:20260819T090000
END:VEVENT


BEGIN:VEVENT
DTEND;TZID=Europe/Berlin:20260820T160000
UID:69e82b839f2a53
DTSTAMP:20260422T035931
LOCATION:Jugendkulturzentrum Alte Kaserne\, Liesl-Karlstadt-Weg 4\, 84036 Landshut
DESCRIPTION:In den Ferien zu Hause? Auch in deiner Heimat gibt es Spannendes zu erleben! Komm mit auf eine Reise in die bunte Welt des Circus! \r\nHier gibt es viel zu entdecken: Du kannst ausprobieren\, wie man Bälle jongliert\, einen Flowerstick in der Luft hält oder Tricks mit dem Diabolo macht. Diese und noch mehr Requisiten warten darauf\, mit Dir zusammen die Schwerkraft zu überlisten. \r\nWer Lust hat\, kann auch als Clown oder andere komische Figur die Bühne erobern. Was auch immer Deine Begeisterung weckt\, hier geht es um die Freude am Ausprobieren und das Kennenlernen von Neuem\, um Spiel\, Spaß und um das Erreichen eines gemeinsamen Ziels mit vereinten Kräften:\r\n\r\nUnsere Aufführung! \r\nDenn was wäre der Circus ohne Publikum\, Lampenfieber und Applaus? \r\nUnd am Allerwichtigsten: was wäre diese wunderbare Woche ohne DICH? \r\n\r\nZum Abschluss des Circus Camps findet die Aufführung am Freitag um 14:00 Uhr statt\, bei der die Eltern\, Geschwister und Verwandte dazu herzlich eingeladen sind.\r\n\r\nEine Anwesenheit an allen 5 Tagen ist Voraussetzung für die Teilnahme an diesem Wochenprogramm.
URL;VALUE=URI:https://www.unser-ferienprogramm.de/landshut/veranstaltung.php?id=307187
SUMMARY:Circus Camp 
DTSTART;TZID=Europe/Berlin:20260820T090000
END:VEVENT


BEGIN:VEVENT
DTEND;TZID=Europe/Berlin:20260821T150000
UID:69e82b839f2b34
DTSTAMP:20260422T035931
LOCATION:Jugendkulturzentrum Alte Kaserne\, Liesl-Karlstadt-Weg 4\, 84036 Landshut
DESCRIPTION:In den Ferien zu Hause? Auch in deiner Heimat gibt es Spannendes zu erleben! Komm mit auf eine Reise in die bunte Welt des Circus! \r\nHier gibt es viel zu entdecken: Du kannst ausprobieren\, wie man Bälle jongliert\, einen Flowerstick in der Luft hält oder Tricks mit dem Diabolo macht. Diese und noch mehr Requisiten warten darauf\, mit Dir zusammen die Schwerkraft zu überlisten. \r\nWer Lust hat\, kann auch als Clown oder andere komische Figur die Bühne erobern. Was auch immer Deine Begeisterung weckt\, hier geht es um die Freude am Ausprobieren und das Kennenlernen von Neuem\, um Spiel\, Spaß und um das Erreichen eines gemeinsamen Ziels mit vereinten Kräften:\r\n\r\nUnsere Aufführung! \r\nDenn was wäre der Circus ohne Publikum\, Lampenfieber und Applaus? \r\nUnd am Allerwichtigsten: was wäre diese wunderbare Woche ohne DICH? \r\n\r\nZum Abschluss des Circus Camps findet die Aufführung am Freitag um 14:00 Uhr statt\, bei der die Eltern\, Geschwister und Verwandte dazu herzlich eingeladen sind.\r\n\r\nEine Anwesenheit an allen 5 Tagen ist Voraussetzung für die Teilnahme an diesem Wochenprogramm.
URL;VALUE=URI:https://www.unser-ferienprogramm.de/landshut/veranstaltung.php?id=307187
SUMMARY:Circus Camp 
DTSTART;TZID=Europe/Berlin:20260821T090000
END:VEVENT

END:VCALENDAR
