BEGIN:VCALENDAR
VERSION:2.0
PRODID:-//hacksw/handcal//NONSGML v1.0//EN
CALSCALE:GREGORIAN
BEGIN:VTIMEZONE
TZID:Europe/Berlin
X-LIC-LOCATION:Europe/Berlin
BEGIN:DAYLIGHT
TZOFFSETFROM:+0100
TZOFFSETTO:+0200
TZNAME:CEST
DTSTART:19700329T020000
RRULE:FREQ=YEARLY;BYDAY=-1SU;BYMONTH=3
END:DAYLIGHT
BEGIN:STANDARD
TZOFFSETFROM:+0200
TZOFFSETTO:+0100
TZNAME:CET
DTSTART:19701025T030000
RRULE:FREQ=YEARLY;BYDAY=-1SU;BYMONTH=10
END:STANDARD
END:VTIMEZONE
BEGIN:VEVENT
DTEND;TZID=Europe/Berlin:20260526T160000
UID:69e81133c856b
DTSTAMP:20260422T020715
LOCATION:Jugendkulturzentrum Alte Kaserne\, Liesl-Karlstadt-Weg 4\, 84036 Landshut
DESCRIPTION:In den Ferien zu Hause? Auch in deiner Heimat gibt es Spannendes zu erleben! Komm mit auf eine Reise in die bunte Welt des Circus! \r\nHier gibt es viel zu entdecken: Du kannst ausprobieren\, wie man Bälle jongliert\, einen Flowerstick in der Luft hält oder Tricks mit dem Diabolo macht. Diese und noch mehr Requisiten warten darauf\, mit Dir zusammen die Schwerkraft zu überlisten. \r\nWer Lust hat\, kann auch als Clown oder andere komische Figur die Bühne erobern. Was auch immer Deine Begeisterung weckt\, hier geht es um die Freude am Ausprobieren und das Kennenlernen von Neuem\, um Spiel und Spaß.\r\n\r\nEine Anwesenheit an allen 4 Tagen ist Voraussetzung für die Teilnahme an diesem Wochenprogramm.
URL;VALUE=URI:https://www.unser-ferienprogramm.de/landshut/veranstaltung.php?id=307184
SUMMARY:Circus Camp 
DTSTART;TZID=Europe/Berlin:20260526T090000
END:VEVENT


BEGIN:VEVENT
DTEND;TZID=Europe/Berlin:20260527T160000
UID:69e81133c85a11
DTSTAMP:20260422T020715
LOCATION:Jugendkulturzentrum Alte Kaserne\, Liesl-Karlstadt-Weg 4\, 84036 Landshut
DESCRIPTION:In den Ferien zu Hause? Auch in deiner Heimat gibt es Spannendes zu erleben! Komm mit auf eine Reise in die bunte Welt des Circus! \r\nHier gibt es viel zu entdecken: Du kannst ausprobieren\, wie man Bälle jongliert\, einen Flowerstick in der Luft hält oder Tricks mit dem Diabolo macht. Diese und noch mehr Requisiten warten darauf\, mit Dir zusammen die Schwerkraft zu überlisten. \r\nWer Lust hat\, kann auch als Clown oder andere komische Figur die Bühne erobern. Was auch immer Deine Begeisterung weckt\, hier geht es um die Freude am Ausprobieren und das Kennenlernen von Neuem\, um Spiel und Spaß.\r\n\r\nEine Anwesenheit an allen 4 Tagen ist Voraussetzung für die Teilnahme an diesem Wochenprogramm.
URL;VALUE=URI:https://www.unser-ferienprogramm.de/landshut/veranstaltung.php?id=307184
SUMMARY:Circus Camp 
DTSTART;TZID=Europe/Berlin:20260527T090000
END:VEVENT


BEGIN:VEVENT
DTEND;TZID=Europe/Berlin:20260528T160000
UID:69e81133c85b92
DTSTAMP:20260422T020715
LOCATION:Jugendkulturzentrum Alte Kaserne\, Liesl-Karlstadt-Weg 4\, 84036 Landshut
DESCRIPTION:In den Ferien zu Hause? Auch in deiner Heimat gibt es Spannendes zu erleben! Komm mit auf eine Reise in die bunte Welt des Circus! \r\nHier gibt es viel zu entdecken: Du kannst ausprobieren\, wie man Bälle jongliert\, einen Flowerstick in der Luft hält oder Tricks mit dem Diabolo macht. Diese und noch mehr Requisiten warten darauf\, mit Dir zusammen die Schwerkraft zu überlisten. \r\nWer Lust hat\, kann auch als Clown oder andere komische Figur die Bühne erobern. Was auch immer Deine Begeisterung weckt\, hier geht es um die Freude am Ausprobieren und das Kennenlernen von Neuem\, um Spiel und Spaß.\r\n\r\nEine Anwesenheit an allen 4 Tagen ist Voraussetzung für die Teilnahme an diesem Wochenprogramm.
URL;VALUE=URI:https://www.unser-ferienprogramm.de/landshut/veranstaltung.php?id=307184
SUMMARY:Circus Camp 
DTSTART;TZID=Europe/Berlin:20260528T090000
END:VEVENT


BEGIN:VEVENT
DTEND;TZID=Europe/Berlin:20260529T150000
UID:69e81133c85c93
DTSTAMP:20260422T020715
LOCATION:Jugendkulturzentrum Alte Kaserne\, Liesl-Karlstadt-Weg 4\, 84036 Landshut
DESCRIPTION:In den Ferien zu Hause? Auch in deiner Heimat gibt es Spannendes zu erleben! Komm mit auf eine Reise in die bunte Welt des Circus! \r\nHier gibt es viel zu entdecken: Du kannst ausprobieren\, wie man Bälle jongliert\, einen Flowerstick in der Luft hält oder Tricks mit dem Diabolo macht. Diese und noch mehr Requisiten warten darauf\, mit Dir zusammen die Schwerkraft zu überlisten. \r\nWer Lust hat\, kann auch als Clown oder andere komische Figur die Bühne erobern. Was auch immer Deine Begeisterung weckt\, hier geht es um die Freude am Ausprobieren und das Kennenlernen von Neuem\, um Spiel und Spaß.\r\n\r\nEine Anwesenheit an allen 4 Tagen ist Voraussetzung für die Teilnahme an diesem Wochenprogramm.
URL;VALUE=URI:https://www.unser-ferienprogramm.de/landshut/veranstaltung.php?id=307184
SUMMARY:Circus Camp 
DTSTART;TZID=Europe/Berlin:20260529T090000
END:VEVENT

END:VCALENDAR
