BEGIN:VCALENDAR
VERSION:2.0
PRODID:-//hacksw/handcal//NONSGML v1.0//EN
CALSCALE:GREGORIAN
BEGIN:VTIMEZONE
TZID:Europe/Berlin
X-LIC-LOCATION:Europe/Berlin
BEGIN:DAYLIGHT
TZOFFSETFROM:+0100
TZOFFSETTO:+0200
TZNAME:CEST
DTSTART:19700329T020000
RRULE:FREQ=YEARLY;BYDAY=-1SU;BYMONTH=3
END:DAYLIGHT
BEGIN:STANDARD
TZOFFSETFROM:+0200
TZOFFSETTO:+0100
TZNAME:CET
DTSTART:19701025T030000
RRULE:FREQ=YEARLY;BYDAY=-1SU;BYMONTH=10
END:STANDARD
END:VTIMEZONE
BEGIN:VEVENT
DTEND;TZID=Europe/Berlin:20260831T160000
UID:69e82b6036b67
DTSTAMP:20260422T035856
LOCATION:Jugendkulturzentrum Alte Kaserne\, Liesl-Karlstadt-Weg 4\, 84036 Landshut
DESCRIPTION:Neben dem Spaß am Sport nachfolgende Programmschwerpunkte im Mittelpunkt: Coole Trend- & Summersports\, Natur & Abenteuer\, Fun- & Teamsports\, International Sports\, Bewegungskünste\, Summerdance sowie Fitness & Gesundheit.\r\n\r\nDie Betreuung beinhaltet an allen Tagen ein warmes Mittagessen. \r\n\r\nEine Anwesenheit an allen 5 Tagen ist Voraussetzung für die Teilnahme an diesem Wochenprogramm.
URL;VALUE=URI:https://www.unser-ferienprogramm.de/landshut/veranstaltung.php?id=307149
SUMMARY:Erlebnis-Sport-Woche (Xund ins Leben)
DTSTART;TZID=Europe/Berlin:20260831T080000
END:VEVENT


BEGIN:VEVENT
DTEND;TZID=Europe/Berlin:20260901T160000
UID:69e82b6036b8d1
DTSTAMP:20260422T035856
LOCATION:Jugendkulturzentrum Alte Kaserne\, Liesl-Karlstadt-Weg 4\, 84036 Landshut
DESCRIPTION:Neben dem Spaß am Sport nachfolgende Programmschwerpunkte im Mittelpunkt: Coole Trend- & Summersports\, Natur & Abenteuer\, Fun- & Teamsports\, International Sports\, Bewegungskünste\, Summerdance sowie Fitness & Gesundheit.\r\n\r\nDie Betreuung beinhaltet an allen Tagen ein warmes Mittagessen. \r\n\r\nEine Anwesenheit an allen 5 Tagen ist Voraussetzung für die Teilnahme an diesem Wochenprogramm.
URL;VALUE=URI:https://www.unser-ferienprogramm.de/landshut/veranstaltung.php?id=307149
SUMMARY:Erlebnis-Sport-Woche (Xund ins Leben)
DTSTART;TZID=Europe/Berlin:20260901T080000
END:VEVENT


BEGIN:VEVENT
DTEND;TZID=Europe/Berlin:20260902T160000
UID:69e82b6036b982
DTSTAMP:20260422T035856
LOCATION:Jugendkulturzentrum Alte Kaserne\, Liesl-Karlstadt-Weg 4\, 84036 Landshut
DESCRIPTION:Neben dem Spaß am Sport nachfolgende Programmschwerpunkte im Mittelpunkt: Coole Trend- & Summersports\, Natur & Abenteuer\, Fun- & Teamsports\, International Sports\, Bewegungskünste\, Summerdance sowie Fitness & Gesundheit.\r\n\r\nDie Betreuung beinhaltet an allen Tagen ein warmes Mittagessen. \r\n\r\nEine Anwesenheit an allen 5 Tagen ist Voraussetzung für die Teilnahme an diesem Wochenprogramm.
URL;VALUE=URI:https://www.unser-ferienprogramm.de/landshut/veranstaltung.php?id=307149
SUMMARY:Erlebnis-Sport-Woche (Xund ins Leben)
DTSTART;TZID=Europe/Berlin:20260902T080000
END:VEVENT


BEGIN:VEVENT
DTEND;TZID=Europe/Berlin:20260903T160000
UID:69e82b6036ba03
DTSTAMP:20260422T035856
LOCATION:Jugendkulturzentrum Alte Kaserne\, Liesl-Karlstadt-Weg 4\, 84036 Landshut
DESCRIPTION:Neben dem Spaß am Sport nachfolgende Programmschwerpunkte im Mittelpunkt: Coole Trend- & Summersports\, Natur & Abenteuer\, Fun- & Teamsports\, International Sports\, Bewegungskünste\, Summerdance sowie Fitness & Gesundheit.\r\n\r\nDie Betreuung beinhaltet an allen Tagen ein warmes Mittagessen. \r\n\r\nEine Anwesenheit an allen 5 Tagen ist Voraussetzung für die Teilnahme an diesem Wochenprogramm.
URL;VALUE=URI:https://www.unser-ferienprogramm.de/landshut/veranstaltung.php?id=307149
SUMMARY:Erlebnis-Sport-Woche (Xund ins Leben)
DTSTART;TZID=Europe/Berlin:20260903T080000
END:VEVENT


BEGIN:VEVENT
DTEND;TZID=Europe/Berlin:20260904T140000
UID:69e82b6036ba74
DTSTAMP:20260422T035856
LOCATION:Jugendkulturzentrum Alte Kaserne\, Liesl-Karlstadt-Weg 4\, 84036 Landshut
DESCRIPTION:Neben dem Spaß am Sport nachfolgende Programmschwerpunkte im Mittelpunkt: Coole Trend- & Summersports\, Natur & Abenteuer\, Fun- & Teamsports\, International Sports\, Bewegungskünste\, Summerdance sowie Fitness & Gesundheit.\r\n\r\nDie Betreuung beinhaltet an allen Tagen ein warmes Mittagessen. \r\n\r\nEine Anwesenheit an allen 5 Tagen ist Voraussetzung für die Teilnahme an diesem Wochenprogramm.
URL;VALUE=URI:https://www.unser-ferienprogramm.de/landshut/veranstaltung.php?id=307149
SUMMARY:Erlebnis-Sport-Woche (Xund ins Leben)
DTSTART;TZID=Europe/Berlin:20260904T080000
END:VEVENT

END:VCALENDAR
