BEGIN:VCALENDAR
VERSION:2.0
PRODID:-//hacksw/handcal//NONSGML v1.0//EN
CALSCALE:GREGORIAN
BEGIN:VTIMEZONE
TZID:Europe/Berlin
X-LIC-LOCATION:Europe/Berlin
BEGIN:DAYLIGHT
TZOFFSETFROM:+0100
TZOFFSETTO:+0200
TZNAME:CEST
DTSTART:19700329T020000
RRULE:FREQ=YEARLY;BYDAY=-1SU;BYMONTH=3
END:DAYLIGHT
BEGIN:STANDARD
TZOFFSETFROM:+0200
TZOFFSETTO:+0100
TZNAME:CET
DTSTART:19701025T030000
RRULE:FREQ=YEARLY;BYDAY=-1SU;BYMONTH=10
END:STANDARD
END:VTIMEZONE
BEGIN:VEVENT
DTEND;TZID=Europe/Berlin:20260824T160000
UID:69e826668d667
DTSTAMP:20260422T033742
LOCATION:Jugendkulturzentrum Alte Kaserne\, Liesl-Karlstadt-Weg 4\, 84036 Landshut
DESCRIPTION:In dieser Woche wird ein spielerischer und bewegungsorientierter Zugang zur Natur geschaffen. Im Mittelpunkt stehen: Natur & Abenteuer\, Trend- & Summersports\, Tanz & Rhythmus\, Bewegungskünste sowie abwechslungsreiche Fun- & Teamspiele.\r\n\r\nDie Betreuung beinhaltet an allen Tagen ein warmes Mittagessen. \r\n\r\nEine Anwesenheit an allen 5 Tagen ist Voraussetzung für die Teilnahme an diesem Wochenprogramm.
URL;VALUE=URI:https://www.unser-ferienprogramm.de/landshut/veranstaltung.php?id=307147
SUMMARY:Natur-Sport-Woche (Xund ins Leben)
DTSTART;TZID=Europe/Berlin:20260824T080000
END:VEVENT


BEGIN:VEVENT
DTEND;TZID=Europe/Berlin:20260825T160000
UID:69e826668d6991
DTSTAMP:20260422T033742
LOCATION:Jugendkulturzentrum Alte Kaserne\, Liesl-Karlstadt-Weg 4\, 84036 Landshut
DESCRIPTION:In dieser Woche wird ein spielerischer und bewegungsorientierter Zugang zur Natur geschaffen. Im Mittelpunkt stehen: Natur & Abenteuer\, Trend- & Summersports\, Tanz & Rhythmus\, Bewegungskünste sowie abwechslungsreiche Fun- & Teamspiele.\r\n\r\nDie Betreuung beinhaltet an allen Tagen ein warmes Mittagessen. \r\n\r\nEine Anwesenheit an allen 5 Tagen ist Voraussetzung für die Teilnahme an diesem Wochenprogramm.
URL;VALUE=URI:https://www.unser-ferienprogramm.de/landshut/veranstaltung.php?id=307147
SUMMARY:Natur-Sport-Woche (Xund ins Leben)
DTSTART;TZID=Europe/Berlin:20260825T080000
END:VEVENT


BEGIN:VEVENT
DTEND;TZID=Europe/Berlin:20260826T160000
UID:69e826668d6a72
DTSTAMP:20260422T033742
LOCATION:Jugendkulturzentrum Alte Kaserne\, Liesl-Karlstadt-Weg 4\, 84036 Landshut
DESCRIPTION:In dieser Woche wird ein spielerischer und bewegungsorientierter Zugang zur Natur geschaffen. Im Mittelpunkt stehen: Natur & Abenteuer\, Trend- & Summersports\, Tanz & Rhythmus\, Bewegungskünste sowie abwechslungsreiche Fun- & Teamspiele.\r\n\r\nDie Betreuung beinhaltet an allen Tagen ein warmes Mittagessen. \r\n\r\nEine Anwesenheit an allen 5 Tagen ist Voraussetzung für die Teilnahme an diesem Wochenprogramm.
URL;VALUE=URI:https://www.unser-ferienprogramm.de/landshut/veranstaltung.php?id=307147
SUMMARY:Natur-Sport-Woche (Xund ins Leben)
DTSTART;TZID=Europe/Berlin:20260826T080000
END:VEVENT


BEGIN:VEVENT
DTEND;TZID=Europe/Berlin:20260827T160000
UID:69e826668d6b23
DTSTAMP:20260422T033742
LOCATION:Jugendkulturzentrum Alte Kaserne\, Liesl-Karlstadt-Weg 4\, 84036 Landshut
DESCRIPTION:In dieser Woche wird ein spielerischer und bewegungsorientierter Zugang zur Natur geschaffen. Im Mittelpunkt stehen: Natur & Abenteuer\, Trend- & Summersports\, Tanz & Rhythmus\, Bewegungskünste sowie abwechslungsreiche Fun- & Teamspiele.\r\n\r\nDie Betreuung beinhaltet an allen Tagen ein warmes Mittagessen. \r\n\r\nEine Anwesenheit an allen 5 Tagen ist Voraussetzung für die Teilnahme an diesem Wochenprogramm.
URL;VALUE=URI:https://www.unser-ferienprogramm.de/landshut/veranstaltung.php?id=307147
SUMMARY:Natur-Sport-Woche (Xund ins Leben)
DTSTART;TZID=Europe/Berlin:20260827T080000
END:VEVENT


BEGIN:VEVENT
DTEND;TZID=Europe/Berlin:20260828T140000
UID:69e826668d6bb4
DTSTAMP:20260422T033742
LOCATION:Jugendkulturzentrum Alte Kaserne\, Liesl-Karlstadt-Weg 4\, 84036 Landshut
DESCRIPTION:In dieser Woche wird ein spielerischer und bewegungsorientierter Zugang zur Natur geschaffen. Im Mittelpunkt stehen: Natur & Abenteuer\, Trend- & Summersports\, Tanz & Rhythmus\, Bewegungskünste sowie abwechslungsreiche Fun- & Teamspiele.\r\n\r\nDie Betreuung beinhaltet an allen Tagen ein warmes Mittagessen. \r\n\r\nEine Anwesenheit an allen 5 Tagen ist Voraussetzung für die Teilnahme an diesem Wochenprogramm.
URL;VALUE=URI:https://www.unser-ferienprogramm.de/landshut/veranstaltung.php?id=307147
SUMMARY:Natur-Sport-Woche (Xund ins Leben)
DTSTART;TZID=Europe/Berlin:20260828T080000
END:VEVENT

END:VCALENDAR
