BEGIN:VCALENDAR
VERSION:2.0
PRODID:-//hacksw/handcal//NONSGML v1.0//EN
CALSCALE:GREGORIAN
BEGIN:VTIMEZONE
TZID:Europe/Berlin
X-LIC-LOCATION:Europe/Berlin
BEGIN:DAYLIGHT
TZOFFSETFROM:+0100
TZOFFSETTO:+0200
TZNAME:CEST
DTSTART:19700329T020000
RRULE:FREQ=YEARLY;BYDAY=-1SU;BYMONTH=3
END:DAYLIGHT
BEGIN:STANDARD
TZOFFSETFROM:+0200
TZOFFSETTO:+0100
TZNAME:CET
DTSTART:19701025T030000
RRULE:FREQ=YEARLY;BYDAY=-1SU;BYMONTH=10
END:STANDARD
END:VTIMEZONE
BEGIN:VEVENT
DTEND;TZID=Europe/Berlin:20260603T105000
UID:69e82b83ee104
DTSTAMP:20260422T035931
LOCATION:Am Lurzenhof 3\, 84036 Landshut (Gelände des Agrarbildungszentrums)
DESCRIPTION:Kinder und ihre Begleitpersonen sind herzlich zur Generalprobe des diesjährigen Kinder- bzw. Familienstücks des KULTURmobils „Lahme Ente\, blindes Huhn“ eingeladen.\r\n\r\nInformationen zum Stück:\r\nIn einem verlassenen Hinterhof stolpert ein blindes Huhn über eine lahme Ente. Das blinde Huhn ist auf dem Weg zu einem Ort\, an dem sein geheimster Wunsch in Erfüllung gehen soll. Da es keinen Blindenhund hat\, bittet es die Ente\, es zu begleiten.\r\n\r\nObwohl die Ente große Angst vor der Welt draußen hat und sich hinter den hohen Mauern des Hinterhofs sicher fühlt\, erklärt sie sich schließlich bereit\, das blinde Huhn zu führen. Auf ihrer gemeinsamen Reise warten einige Herausforderungen auf die beiden ungleichen Gefährten. Schließlich scheint auf dem höchsten Gipfel der Welt endlich das Ziel erreicht …\r\n\r\n„Lahme Ente\, blindes Huhn“ ist ein witzig-poetisches Stück für die ganze Familie über große Wünsche\, die Kraft der Freundschaft und den Zauber der Illusion.
URL;VALUE=URI:https://www.unser-ferienprogramm.de/landshut/veranstaltung.php?id=307104
SUMMARY:KULTURmobil Generalprobe „Lahme Ente\, blindes Huhn“
DTSTART;TZID=Europe/Berlin:20260603T100000
END:VEVENT

END:VCALENDAR
