BEGIN:VCALENDAR
VERSION:2.0
PRODID:-//hacksw/handcal//NONSGML v1.0//EN
CALSCALE:GREGORIAN
BEGIN:VTIMEZONE
TZID:Europe/Berlin
X-LIC-LOCATION:Europe/Berlin
BEGIN:DAYLIGHT
TZOFFSETFROM:+0100
TZOFFSETTO:+0200
TZNAME:CEST
DTSTART:19700329T020000
RRULE:FREQ=YEARLY;BYDAY=-1SU;BYMONTH=3
END:DAYLIGHT
BEGIN:STANDARD
TZOFFSETFROM:+0200
TZOFFSETTO:+0100
TZNAME:CET
DTSTART:19701025T030000
RRULE:FREQ=YEARLY;BYDAY=-1SU;BYMONTH=10
END:STANDARD
END:VTIMEZONE
BEGIN:VEVENT
DTEND;TZID=Europe/Berlin:20260814T120000
UID:69e82c9c4b353
DTSTAMP:20260422T040412
LOCATION:Krottenthal 1\, 84180 Loiching
DESCRIPTION:Erste Annäherung an unsere Pferde und Ponys\, Ihr lernt den Hof mit all seinen Tieren kennen.\r\nWer mag\, darf sich im Reiten oder Voltigieren üben oder auch einmal auf einem ganz großen Pferd ohne Sattel sitzen.\r\nZum Abschluss gibt es noch eine kleine Überraschung für alle Kinder!\r\nKosten pro Kind: 30€ / für Geschwisterkinder 20 €
URL;VALUE=URI:https://www.unser-ferienprogramm.de/landshut/veranstaltung.php?id=307080
SUMMARY:Schnuppertag Hof Krottenthal I
DTSTART;TZID=Europe/Berlin:20260814T090000
END:VEVENT

END:VCALENDAR
