BEGIN:VCALENDAR
VERSION:2.0
PRODID:-//hacksw/handcal//NONSGML v1.0//EN
CALSCALE:GREGORIAN
BEGIN:VTIMEZONE
TZID:Europe/Berlin
X-LIC-LOCATION:Europe/Berlin
BEGIN:DAYLIGHT
TZOFFSETFROM:+0100
TZOFFSETTO:+0200
TZNAME:CEST
DTSTART:19700329T020000
RRULE:FREQ=YEARLY;BYDAY=-1SU;BYMONTH=3
END:DAYLIGHT
BEGIN:STANDARD
TZOFFSETFROM:+0200
TZOFFSETTO:+0100
TZNAME:CET
DTSTART:19701025T030000
RRULE:FREQ=YEARLY;BYDAY=-1SU;BYMONTH=10
END:STANDARD
END:VTIMEZONE
BEGIN:VEVENT
DTEND;TZID=Europe/Berlin:20260526T183000
UID:69e812022be14
DTSTAMP:20260422T021042
LOCATION:Krottenthal 1\, 84180 Loiching
DESCRIPTION:Jeder kann mitreiten - die Ponys werden den ganzen Ausritt geführt.( die Eltern sollten mitwandern!)\r\nAuf halber Strecke tauschen Führkind und Reitkind. Je Pony 2 Kinder!\r\nKosten pro Kind: 20€\, will das Kind die ganze Strecke reiten 40\,-€
URL;VALUE=URI:https://www.unser-ferienprogramm.de/landshut/veranstaltung.php?id=306925
SUMMARY:Ponywanderung Hof Krottenthal I
DTSTART;TZID=Europe/Berlin:20260526T160000
END:VEVENT

END:VCALENDAR
