BEGIN:VCALENDAR
VERSION:2.0
PRODID:-//hacksw/handcal//NONSGML v1.0//EN
CALSCALE:GREGORIAN
BEGIN:VTIMEZONE
TZID:Europe/Berlin
X-LIC-LOCATION:Europe/Berlin
BEGIN:DAYLIGHT
TZOFFSETFROM:+0100
TZOFFSETTO:+0200
TZNAME:CEST
DTSTART:19700329T020000
RRULE:FREQ=YEARLY;BYDAY=-1SU;BYMONTH=3
END:DAYLIGHT
BEGIN:STANDARD
TZOFFSETFROM:+0200
TZOFFSETTO:+0100
TZNAME:CET
DTSTART:19701025T030000
RRULE:FREQ=YEARLY;BYDAY=-1SU;BYMONTH=10
END:STANDARD
END:VTIMEZONE
BEGIN:VEVENT
DTEND;TZID=Europe/Berlin:20260913T230000
UID:69e82c95e9376
DTSTAMP:20260422T040405
LOCATION:Communauté Taizé\, Frankreich
DESCRIPTION:Für eine Woche Auszeit nehmen vom Alltag\, zur Ruhe kommen und sich besinnen:\r\nDas ist möglich in Taizé.\r\n \r\nHier sind alle willkommen\, Gläubige und Nichtgläubige aus der ganuen Welt. Neben den Gebeten\, die den Tag einteilen\, gibt es Möglichkeiten zum Austausch mit den unterschiedlichsten Menschen\, und sich aber auch in der Stille zurück ziehen zu können. \r\n \r\nNähere Informationen zu Taizé findest du hier: https://www.taize.fr/de/
URL;VALUE=URI:https://www.unser-ferienprogramm.de/landshut/veranstaltung.php?id=306740
SUMMARY:Fahrt nach Taizé
DTSTART;TZID=Europe/Berlin:20260906T050000
END:VEVENT

END:VCALENDAR
