BEGIN:VCALENDAR
VERSION:2.0
PRODID:-//hacksw/handcal//NONSGML v1.0//EN
CALSCALE:GREGORIAN
BEGIN:VTIMEZONE
TZID:Europe/Berlin
X-LIC-LOCATION:Europe/Berlin
BEGIN:DAYLIGHT
TZOFFSETFROM:+0100
TZOFFSETTO:+0200
TZNAME:CEST
DTSTART:19700329T020000
RRULE:FREQ=YEARLY;BYDAY=-1SU;BYMONTH=3
END:DAYLIGHT
BEGIN:STANDARD
TZOFFSETFROM:+0200
TZOFFSETTO:+0100
TZNAME:CET
DTSTART:19701025T030000
RRULE:FREQ=YEARLY;BYDAY=-1SU;BYMONTH=10
END:STANDARD
END:VTIMEZONE
BEGIN:VEVENT
DTEND;TZID=Europe/Berlin:20261104T130000
UID:69e82c9e3e950
DTSTAMP:20260422T040414
LOCATION:Jugendzeltdorf am Rannasee\, Tumpenberg 15\, 94110 Wegscheid
DESCRIPTION:Dieses Jahr fahren wir für ein paar Tage in das Jugendzeltdorf Rannasee!\r\nAber keine Sorge\, wir schlafen in Hütten\, nicht in Zelten.\r\n \r\nGemeinsam erleben wir verschiedene Dinge\, von Basteln und eher ruhigeren Angeboten über Spiele auf der Wiese oder im Wald bis hin zu Lagerfeuerabenden.\r\n\r\nIn dem Hüttendorf steht uns alles zur Verfügung\, was wir brauchen. Eine feste Küche\, Sanitäreinrichtungen und gemütliche Betten.
URL;VALUE=URI:https://www.unser-ferienprogramm.de/landshut/veranstaltung.php?id=305322
SUMMARY:Kinderherbstfreizeit
DTSTART;TZID=Europe/Berlin:20261031T150000
END:VEVENT

END:VCALENDAR
