BEGIN:VCALENDAR
VERSION:2.0
PRODID:-//hacksw/handcal//NONSGML v1.0//EN
CALSCALE:GREGORIAN
BEGIN:VTIMEZONE
TZID:Europe/Berlin
X-LIC-LOCATION:Europe/Berlin
BEGIN:DAYLIGHT
TZOFFSETFROM:+0100
TZOFFSETTO:+0200
TZNAME:CEST
DTSTART:19700329T020000
RRULE:FREQ=YEARLY;BYDAY=-1SU;BYMONTH=3
END:DAYLIGHT
BEGIN:STANDARD
TZOFFSETFROM:+0200
TZOFFSETTO:+0100
TZNAME:CET
DTSTART:19701025T030000
RRULE:FREQ=YEARLY;BYDAY=-1SU;BYMONTH=10
END:STANDARD
END:VTIMEZONE
BEGIN:VEVENT
DTEND;TZID=Europe/Berlin:20260528T200000
UID:69e81207771c8
DTSTAMP:20260422T021047
LOCATION:Zeltplatz Mühlhof\, Mühlhof 8\, 84036 Landshut
DESCRIPTION:2026 geht es mit dem Pfingstzeltlager auf den Zeltplatz Mühlhof des Stadtjugendrings! Gemeinsam werden wir eine spannende Woche mit Spielen\, Lagerfeuer und vielen Abenteuern in der Natur verbringen. Besonderes Highlight ist wie immer unser Bunter Abend\, den wir gemeinsam mit den Eltern am 28. Mai feiern wollen.\r\n\r\nAuf dem Zeltplatz steht uns alles zur Verfügung\, was wir brauchen: eine feste Küche\, ein Aufenthaltsraum\, Sanitäranlagen und Zelte.
URL;VALUE=URI:https://www.unser-ferienprogramm.de/landshut/veranstaltung.php?id=304216
SUMMARY:Pfingstzeltlager
DTSTART;TZID=Europe/Berlin:20260523T160000
END:VEVENT

END:VCALENDAR
