BEGIN:VCALENDAR
VERSION:2.0
PRODID:-//hacksw/handcal//NONSGML v1.0//EN
CALSCALE:GREGORIAN
BEGIN:VTIMEZONE
TZID:Europe/Berlin
X-LIC-LOCATION:Europe/Berlin
BEGIN:DAYLIGHT
TZOFFSETFROM:+0100
TZOFFSETTO:+0200
TZNAME:CEST
DTSTART:19700329T020000
RRULE:FREQ=YEARLY;BYDAY=-1SU;BYMONTH=3
END:DAYLIGHT
BEGIN:STANDARD
TZOFFSETFROM:+0200
TZOFFSETTO:+0100
TZNAME:CET
DTSTART:19701025T030000
RRULE:FREQ=YEARLY;BYDAY=-1SU;BYMONTH=10
END:STANDARD
END:VTIMEZONE
BEGIN:VEVENT
DTEND;TZID=Europe/Berlin:20260602T130000
UID:69e65184336f5
DTSTAMP:20260420T181708
LOCATION:Meine Werkstatt in Ettenheim\, Weidenweg 28a
DESCRIPTION:Nähe dir eine luftige Sommerhose mit Gummibund - ideal für die Sommertage.\r\n\r\nDu wirst vermessen und schneidest dir die Hose anhand der von mir erstellten Schnittmuster die Hose selber zu. Anschließend nähst du diese auch zusammen.\r\n\r\nEinige Näherfahrungen\, besonders das geradeaus nähen und Ausdauer sind sehr von Vorteil. Der Viskosestoff\, aus dem die Hose genäht wird\, bedarf etwas Zeit beim Zuschneiden und Nähen.\r\n\r\nEine Nähmaschine sowie Zubehör ist für jedes Kind vorhanden\, ebenso inklusive sind sämtliche Materialkosten.\r\n\r\nWichtig!!!!  Bitte nur direkt über den Link zu meiner Website (Online-Shop) anmelden. Nur dann ist ein Platz für Ihr Kind reserviert. Falls Sie Fragen zur Anmeldung haben\, können Sie mich gerne anrufen.\r\n
URL;VALUE=URI:https://www.unser-ferienprogramm.de/lahr/veranstaltung.php?id=315384
SUMMARY:Workshop Sommerhose nähen
DTSTART;TZID=Europe/Berlin:20260602T090000
END:VEVENT

END:VCALENDAR
