BEGIN:VCALENDAR
VERSION:2.0
PRODID:-//hacksw/handcal//NONSGML v1.0//EN
CALSCALE:GREGORIAN
BEGIN:VTIMEZONE
TZID:Europe/Berlin
X-LIC-LOCATION:Europe/Berlin
BEGIN:DAYLIGHT
TZOFFSETFROM:+0100
TZOFFSETTO:+0200
TZNAME:CEST
DTSTART:19700329T020000
RRULE:FREQ=YEARLY;BYDAY=-1SU;BYMONTH=3
END:DAYLIGHT
BEGIN:STANDARD
TZOFFSETFROM:+0200
TZOFFSETTO:+0100
TZNAME:CET
DTSTART:19701025T030000
RRULE:FREQ=YEARLY;BYDAY=-1SU;BYMONTH=10
END:STANDARD
END:VTIMEZONE
BEGIN:VEVENT
DTEND;TZID=Europe/Berlin:20260613T170000
UID:69e6516029301
DTSTAMP:20260420T181632
LOCATION:Römeranlage im Bürgerpark
DESCRIPTION:Erlebe einen Nachmittag voller historischer Spiele im und um das Streifenhaus der Römeranlage.\r\n\r\nOb Geschicklichkeit\, Strategie oder Würfelglück - gemeinsam entdecken wir\, wie in früheren Zeiten gespielt\, gelacht und gewetteifert wurde.\r\n\r\nÜber eine kleine Spende für das Stadtmuseum freuen sich alle Beteiligten.
URL;VALUE=URI:https://www.unser-ferienprogramm.de/lahr/veranstaltung.php?id=309819
SUMMARY:Historische Spiele zum Weltspieltag
DTSTART;TZID=Europe/Berlin:20260613T130000
END:VEVENT

END:VCALENDAR
