BEGIN:VCALENDAR
VERSION:2.0
PRODID:-//hacksw/handcal//NONSGML v1.0//EN
CALSCALE:GREGORIAN
BEGIN:VTIMEZONE
TZID:Europe/Berlin
X-LIC-LOCATION:Europe/Berlin
BEGIN:DAYLIGHT
TZOFFSETFROM:+0100
TZOFFSETTO:+0200
TZNAME:CEST
DTSTART:19700329T020000
RRULE:FREQ=YEARLY;BYDAY=-1SU;BYMONTH=3
END:DAYLIGHT
BEGIN:STANDARD
TZOFFSETFROM:+0200
TZOFFSETTO:+0100
TZNAME:CET
DTSTART:19701025T030000
RRULE:FREQ=YEARLY;BYDAY=-1SU;BYMONTH=10
END:STANDARD
END:VTIMEZONE
BEGIN:VEVENT
DTEND;TZID=Europe/Berlin:20260924T180000
UID:69e65183763ec
DTSTAMP:20260420T181707
LOCATION:Schlachthof Lahr 
DESCRIPTION:Im Kurs entdecken Kinder auf spielerische Weise\, wie Entspannung\, Achtsamkeit\, Selbstwert und Fantasie miteinander wirken und sich gegenseitig stärken.\r\n\r\nVerschiedene Yoga-Positionen werden kennengelernt\, kreative Elemente eingebunden und gemeinsame Fantasiereisen ermöglichen den Zugang zu Ruhe und Entspannung.\r\n\r\nDabei wird die Körperwahrnehmung gefördert und erlebbar gemacht\, wie leicht es sein kann\, zur Ruhe zu kommen und bei sich selbst anzukommen.
URL;VALUE=URI:https://www.unser-ferienprogramm.de/lahr/veranstaltung.php?id=309659
SUMMARY:Kinderyoga mit Chrissi 
DTSTART;TZID=Europe/Berlin:20260924T170000
END:VEVENT

END:VCALENDAR
