BEGIN:VCALENDAR
VERSION:2.0
PRODID:-//hacksw/handcal//NONSGML v1.0//EN
CALSCALE:GREGORIAN
BEGIN:VTIMEZONE
TZID:Europe/Berlin
X-LIC-LOCATION:Europe/Berlin
BEGIN:DAYLIGHT
TZOFFSETFROM:+0100
TZOFFSETTO:+0200
TZNAME:CEST
DTSTART:19700329T020000
RRULE:FREQ=YEARLY;BYDAY=-1SU;BYMONTH=3
END:DAYLIGHT
BEGIN:STANDARD
TZOFFSETFROM:+0200
TZOFFSETTO:+0100
TZNAME:CET
DTSTART:19701025T030000
RRULE:FREQ=YEARLY;BYDAY=-1SU;BYMONTH=10
END:STANDARD
END:VTIMEZONE
BEGIN:VEVENT
DTEND;TZID=Europe/Berlin:20260818T163000
UID:69e8b93b1a0f7
DTSTAMP:20260422T140411
LOCATION:Kunstshop des Museum Würth\, Reinhold-Würth-Str. 15\, 74653 Künzelsau
DESCRIPTION:Taucht mit uns ein in die faszinierende Welt von Gertrude Reum! Gertrude Reum hat viele spannende Materialien für ihre Kunst benutzt: glänzendes Messing\, schimmerndes Aluminium\, große Stahlröhren oder den geheimnisvollen Zellstoff. Bei einem Rundgang durch das Museum Würth in Künzelsau entdecken wir gemeinsam ihre funkelnden und strahlenden Kunstwerke aus der Nähe. Danach heißt es für uns: selbst kreativ werden!\r\nInspiriert von Gertrude Reums einzigartigem Stil gestalten wir eigene kleine Skulpturen zum mit nach Hause nehmen. Wir freuen uns auf euch!
URL;VALUE=URI:https://www.unser-ferienprogramm.de/kuenzelsau/veranstaltung.php?id=253995
SUMMARY:Gertrude Reum! Kinderführung mit Kreativworkshop
DTSTART;TZID=Europe/Berlin:20260818T140000
END:VEVENT

END:VCALENDAR
