BEGIN:VCALENDAR
VERSION:2.0
PRODID:-//hacksw/handcal//NONSGML v1.0//EN
CALSCALE:GREGORIAN
BEGIN:VTIMEZONE
TZID:Europe/Berlin
X-LIC-LOCATION:Europe/Berlin
BEGIN:DAYLIGHT
TZOFFSETFROM:+0100
TZOFFSETTO:+0200
TZNAME:CEST
DTSTART:19700329T020000
RRULE:FREQ=YEARLY;BYDAY=-1SU;BYMONTH=3
END:DAYLIGHT
BEGIN:STANDARD
TZOFFSETFROM:+0200
TZOFFSETTO:+0100
TZNAME:CET
DTSTART:19701025T030000
RRULE:FREQ=YEARLY;BYDAY=-1SU;BYMONTH=10
END:STANDARD
END:VTIMEZONE
BEGIN:VEVENT
DTEND;TZID=Europe/Berlin:20260603T210000
UID:69e7961a8f2a7
DTSTAMP:20260421T172202
LOCATION:
DESCRIPTION:Nix los in den Pfingstferien?\r\nDann fahrt mit in den Europapark und übernachtet mit uns im Tipidorf! \r\nGanze zwei Tage könnt ihr alle coolen Attraktionen im Park genießen. \r\nDer Park bietet eine perfekte Mischung aus Nervenkitzel\, Nostalgie und atemberaubenden Shows. Ihr könnt euch auf bahnbrechende Achterbahntechnologie\, detailverliebte Landschaften und ein unvergleichliches Gesamtpaket freuen.\r\n
URL;VALUE=URI:https://www.unser-ferienprogramm.de/kleinostheim/veranstaltung.php?id=305635
SUMMARY:2 Tage Europapark mit Übernachtung
DTSTART;TZID=Europe/Berlin:20260602T063000
END:VEVENT

END:VCALENDAR
