BEGIN:VCALENDAR
VERSION:2.0
PRODID:-//hacksw/handcal//NONSGML v1.0//EN
CALSCALE:GREGORIAN
BEGIN:VTIMEZONE
TZID:Europe/Berlin
X-LIC-LOCATION:Europe/Berlin
BEGIN:DAYLIGHT
TZOFFSETFROM:+0100
TZOFFSETTO:+0200
TZNAME:CEST
DTSTART:19700329T020000
RRULE:FREQ=YEARLY;BYDAY=-1SU;BYMONTH=3
END:DAYLIGHT
BEGIN:STANDARD
TZOFFSETFROM:+0200
TZOFFSETTO:+0100
TZNAME:CET
DTSTART:19701025T030000
RRULE:FREQ=YEARLY;BYDAY=-1SU;BYMONTH=10
END:STANDARD
END:VTIMEZONE
BEGIN:VEVENT
DTEND;TZID=Europe/Berlin:20260807T160000
UID:69e791b5ce32a
DTSTAMP:20260421T170317
LOCATION:Jugendherberge Marburg an der Lahn
DESCRIPTION:Unsere Jugendfreizeit führt uns dieses Jahr in die neu gebaute Jugendherberge nach Marburg.\r\nGemeinsam planen wir in einem Vortreffen unsere spannenden Tage\, um eine tolle und erlebnisreiche und vor allem selbstorganisierte Freizeit zu erleben. Wir könnten eine Kanutour auf der Lahn erleben\, die Mittelalterliche Altstadt entdecken oder Wakeboarden am See. Melde dich an und deine Ideen bestimmen mit!
URL;VALUE=URI:https://www.unser-ferienprogramm.de/kleinostheim/veranstaltung.php?id=301965
SUMMARY:Jugendfreizeit in Marburg
DTSTART;TZID=Europe/Berlin:20260803T090000
END:VEVENT

END:VCALENDAR
