BEGIN:VCALENDAR
VERSION:2.0
PRODID:-//hacksw/handcal//NONSGML v1.0//EN
CALSCALE:GREGORIAN
BEGIN:VTIMEZONE
TZID:Europe/Berlin
X-LIC-LOCATION:Europe/Berlin
BEGIN:DAYLIGHT
TZOFFSETFROM:+0100
TZOFFSETTO:+0200
TZNAME:CEST
DTSTART:19700329T020000
RRULE:FREQ=YEARLY;BYDAY=-1SU;BYMONTH=3
END:DAYLIGHT
BEGIN:STANDARD
TZOFFSETFROM:+0200
TZOFFSETTO:+0100
TZNAME:CET
DTSTART:19701025T030000
RRULE:FREQ=YEARLY;BYDAY=-1SU;BYMONTH=10
END:STANDARD
END:VTIMEZONE
BEGIN:VEVENT
DTEND;TZID=Europe/Berlin:20260331T130000
UID:69e6296bc6848
DTSTAMP:20260420T152603
LOCATION:Kulmbach
DESCRIPTION:Auch in diesem Jahr öffnet unsere Osterwerkstatt ihre Pforten.\r\n\r\nWir setzen auf unser bewährtes Programm mit lachen\, basteln\, spielen\, toben. \r\nPassend zur Jahreszeit wird sich natürlich auch auf die Suche nach bunten Ostereiern begeben.\r\nUnd das ist noch nicht alles: Wer möchte\, kann in unserer Osterhasen-Bäckerei selbst Köstlichkeiten herstellen.\r\n\r\nWir sind während der Veranstaltung im Kinder- und Jugendkulturzentrum "Alte Spinnerei am Bahnhof"\, Bahnhofsplatz 1\,  in Kulmbach.\r\n\r\nWenn es die Zeit und das Wetter erlaubt gehen wir auch\, mit allen Kindern und Betreuer:innen\, in Kleingruppen in die Kulmbacher Innenstadt. \r\n\r\nMehr Infos finden sich auch auf unserer Homepage (siehe rechts).
URL;VALUE=URI:https://www.unser-ferienprogramm.de/kjr-ku/veranstaltung.php?id=152956
SUMMARY:Osterwerkstatt
DTSTART;TZID=Europe/Berlin:20260331T080000
END:VEVENT

END:VCALENDAR
