BEGIN:VCALENDAR
VERSION:2.0
PRODID:-//hacksw/handcal//NONSGML v1.0//EN
CALSCALE:GREGORIAN
BEGIN:VTIMEZONE
TZID:Europe/Berlin
X-LIC-LOCATION:Europe/Berlin
BEGIN:DAYLIGHT
TZOFFSETFROM:+0100
TZOFFSETTO:+0200
TZNAME:CEST
DTSTART:19700329T020000
RRULE:FREQ=YEARLY;BYDAY=-1SU;BYMONTH=3
END:DAYLIGHT
BEGIN:STANDARD
TZOFFSETFROM:+0200
TZOFFSETTO:+0100
TZNAME:CET
DTSTART:19701025T030000
RRULE:FREQ=YEARLY;BYDAY=-1SU;BYMONTH=10
END:STANDARD
END:VTIMEZONE
BEGIN:VEVENT
DTEND;TZID=Europe/Berlin:20260808T153000
UID:69e4cd79b5bdf
DTSTAMP:20260419T144129
LOCATION:wird noch bekannt gegeben
DESCRIPTION:Du hast Lust eine Woche unter freiem Himmel zu verbringen und Zelten ist genau dein Ding? Dann bist du bei uns absolut richtig. Erlebe mit uns eine Woche voller Spannung und Abenteuer in der Natur!\r\nWir freuen uns auf dich! 
URL;VALUE=URI:https://www.unser-ferienprogramm.de/kjr-dillingen/veranstaltung.php?id=151749
SUMMARY:Zeltlager der Pfarrjugend der Pfarreiengemeinschaft Gundelfingen
DTSTART;TZID=Europe/Berlin:20260802T133000
END:VEVENT

END:VCALENDAR
