BEGIN:VCALENDAR
VERSION:2.0
PRODID:-//hacksw/handcal//NONSGML v1.0//EN
CALSCALE:GREGORIAN
BEGIN:VTIMEZONE
TZID:Europe/Berlin
X-LIC-LOCATION:Europe/Berlin
BEGIN:DAYLIGHT
TZOFFSETFROM:+0100
TZOFFSETTO:+0200
TZNAME:CEST
DTSTART:19700329T020000
RRULE:FREQ=YEARLY;BYDAY=-1SU;BYMONTH=3
END:DAYLIGHT
BEGIN:STANDARD
TZOFFSETFROM:+0200
TZOFFSETTO:+0100
TZNAME:CET
DTSTART:19701025T030000
RRULE:FREQ=YEARLY;BYDAY=-1SU;BYMONTH=10
END:STANDARD
END:VTIMEZONE
BEGIN:VEVENT
DTEND;TZID=Europe/Berlin:20260324T210000
UID:69eb76598585a
DTSTAMP:20260424T155537
LOCATION:Microsoft Teams
DESCRIPTION:Medienpädagogische Methoden gegen Desinformation\r\nMeinungsmache oder Fakten? Propaganda oder Journalismus? Wahrheit oder Lüge? KI oder nicht? Wie kann man Jugendliche darin stärken\, Falschinformationen in ihren Newsfeeds zu erkennen und aufzudecken? Medienpädagogische Referent*innen der Medienstelle Augsburg des JFF (MSA) stellen Methoden vor\, um Jugendliche für Desinformation zu sensibilisieren\r\n\r\nInhalte\r\n\r\nWirkungsmechanismen von Desinformation und Medieninhalten\r\nMedienpädagogische Methoden und Materialien gegen Desinformation\r\n \r\n\r\nDie Seminare bauen aufeinander auf\, daher ist eine Anmeldung für beide Termine vorgesehen. Bitte für die Anmeldung zum ersten Termin folgenden Link nutzen: https://events.teams.microsoft.com/event/e83291a8-8f54-45c9-958b-77c84a3e949d@391258f0-ee83-4b0a-ae96-c5642651f2b6 \r\n\r\nDie Seminare können zur Verlängerung der Juleica angerechnet werden.
URL;VALUE=URI:https://www.unser-ferienprogramm.de/kjr-augsburg/veranstaltung.php?id=299671
SUMMARY:Online Seminar: Medienpädagogische Methoden gegen Desinformation
DTSTART;TZID=Europe/Berlin:20260324T190000
END:VEVENT

END:VCALENDAR
