BEGIN:VCALENDAR
VERSION:2.0
PRODID:-//hacksw/handcal//NONSGML v1.0//EN
CALSCALE:GREGORIAN
BEGIN:VTIMEZONE
TZID:Europe/Berlin
X-LIC-LOCATION:Europe/Berlin
BEGIN:DAYLIGHT
TZOFFSETFROM:+0100
TZOFFSETTO:+0200
TZNAME:CEST
DTSTART:19700329T020000
RRULE:FREQ=YEARLY;BYDAY=-1SU;BYMONTH=3
END:DAYLIGHT
BEGIN:STANDARD
TZOFFSETFROM:+0200
TZOFFSETTO:+0100
TZNAME:CET
DTSTART:19701025T030000
RRULE:FREQ=YEARLY;BYDAY=-1SU;BYMONTH=10
END:STANDARD
END:VTIMEZONE
BEGIN:VEVENT
DTEND;TZID=Europe/Berlin:20260314T170000
UID:69eb7674d0b8c
DTSTAMP:20260424T155604
LOCATION:Augsburg
DESCRIPTION:In Kooperation mit der Evangelischen Jugend Augsburg und dem Bayerischen Roten Kreuz (BRK) Kreisverband Augsburg-Land bieten wir einen Erste-Hilfe-Kurs für Jugendleiter*innen an\, der den Kursinhalten des Rotkreuzkurses für Erste Hilfe entspricht. In Theorie und Praxis werden die lebensrettenden Maßnahmen und weitere Themen der Ersten Hilfe behandelt. Jugendleiter*innen bekommen einfache und praktische Hinweise\, wie man Menschen in Notsituationen helfen kann. Themen sind unter anderem: Eigenschutz\, Absichern einer Unfallstelle\, Rettungskette\, Seitenlage\, Wiederbelebung und Defibrillation\, Versorgung bei akuten Krankheitsbildern und Verletzungen. Der Kurs entspricht den Vorgaben und Inhalten der DGUV 304-001 und erfüllt ebenso die Bedingungen zum Erwerb der Juleica. Außerdem gilt der Erste-Hilfe-Kurs für den Führerscheinerwerb.
URL;VALUE=URI:https://www.unser-ferienprogramm.de/kjr-augsburg/veranstaltung.php?id=241109
SUMMARY:Erste-Hilfe-Kurs
DTSTART;TZID=Europe/Berlin:20260314T090000
END:VEVENT

END:VCALENDAR
