BEGIN:VCALENDAR
VERSION:2.0
PRODID:-//hacksw/handcal//NONSGML v1.0//EN
CALSCALE:GREGORIAN
BEGIN:VTIMEZONE
TZID:Europe/Berlin
X-LIC-LOCATION:Europe/Berlin
BEGIN:DAYLIGHT
TZOFFSETFROM:+0100
TZOFFSETTO:+0200
TZNAME:CEST
DTSTART:19700329T020000
RRULE:FREQ=YEARLY;BYDAY=-1SU;BYMONTH=3
END:DAYLIGHT
BEGIN:STANDARD
TZOFFSETFROM:+0200
TZOFFSETTO:+0100
TZNAME:CET
DTSTART:19701025T030000
RRULE:FREQ=YEARLY;BYDAY=-1SU;BYMONTH=10
END:STANDARD
END:VTIMEZONE
BEGIN:VEVENT
DTEND;TZID=Europe/Berlin:20260426T170000
UID:69eb76738257e
DTSTAMP:20260424T155603
LOCATION:Zusmarshausen 
DESCRIPTION:Zum Erwerb der Juleica über den KJR müssen folgende Nachweise erbracht werden:\r\n• Teilnahme am Grundkurs 1\r\n• Teilnahme am Grundkurs 2\r\n• Nachweis über einen Erste-Hilfe-Kurs\, nicht älter als 3 Jahre\r\n\r\nIm Grundkurs 1 werden folgende Inhalte behandelt:\r\n•\tLebenssituation von Kindern und Jugendlichen\r\n•\tGrundkenntnisse über die Entwicklung von Kindern und Jugendlichen\r\n•\tVermittlung von Leitungskompetenz und Gruppenpädagogik in Theorie und Praxis / Rolle der Jugendleitung\r\n•\tMethodenkompetenz\r\n•\tStrukturen der Jugendarbeit\r\n•\tInklusion\r\n•\tSpielepädagogik\r\n•\tPartizipation und Demokratie \r\n\r\n\r\n
URL;VALUE=URI:https://www.unser-ferienprogramm.de/kjr-augsburg/veranstaltung.php?id=153762
SUMMARY:Juleica Grundkurs 1
DTSTART;TZID=Europe/Berlin:20260424T180000
END:VEVENT

END:VCALENDAR
