BEGIN:VCALENDAR
VERSION:2.0
PRODID:-//hacksw/handcal//NONSGML v1.0//EN
CALSCALE:GREGORIAN
BEGIN:VTIMEZONE
TZID:Europe/Berlin
X-LIC-LOCATION:Europe/Berlin
BEGIN:DAYLIGHT
TZOFFSETFROM:+0100
TZOFFSETTO:+0200
TZNAME:CEST
DTSTART:19700329T020000
RRULE:FREQ=YEARLY;BYDAY=-1SU;BYMONTH=3
END:DAYLIGHT
BEGIN:STANDARD
TZOFFSETFROM:+0200
TZOFFSETTO:+0100
TZNAME:CET
DTSTART:19701025T030000
RRULE:FREQ=YEARLY;BYDAY=-1SU;BYMONTH=10
END:STANDARD
END:VTIMEZONE
BEGIN:VEVENT
DTEND;TZID=Europe/Berlin:20270105T000000
UID:69eb78987bbca
DTSTAMP:20260424T160512
LOCATION:Obertauern\, Österreich
DESCRIPTION:Skifreizeit in Obertauern für 12- bis 18-jährige\r\n\r\ninkl. Transfer\, Unterkunft und Vollpension\r\nUnterbringung im Jugendhotel "Schaidberg"\r\n\r\n!! Die Kosten für den 4-Tages-Skipass sind nicht im Teilnehmerbeitrag enthalten !! Diese Infos erhalten wir leider erst im Winter\, dann erhalten Sie eine E-Mail von uns. \r\n\r\n\r\nObertauern ist eines der schneesichersten Skigebiete in den Alpen mit einer Seehöhe von 1.630 m bis 2.313 m. 26 Liftanlagen (eine Kabinenbahn\, 17 Sessellifte\, 2 Sessel-Kabinen-Kombibahnen und 6 Schlepplifte) für 100 km Piste (61 km leicht\, 35 km mittel und 4 km schwer) stehen zur Verfügung.\r\n\r\nEs wird kein Skiunterricht angeboten!\r\n\r\nDas Jugendhotel Schaidberg liegt direkt an der Piste. Die Verpflegung besteht aus frischer Hausmannskost (auch vegetarisch und vegan)\, zudem gibt es freies WLAN\, Tischtennis\, Tischfußball\, Air Hockey\, Billard und vieles mehr. Die Unterkunft der Teilnehmenden findet in komfortablen 4-6 Bettzimmern mit Dusche und WC statt.\r\n\r\nWICHTIG: \r\nDer Teilnehmerbeitrag beinhaltet die Busfahrt\, Unterbringung mit Vollpension\, Betreuung und eine Unfall- und Haftpflichtversicherung. Das Abschließen einer Auslandsreisekrankenversicherung wird empfohlen. Wenn Sie Ihre Kinder bei uns anmelden\, überweisen Sie bitte den Teilnehmerbetrag innerhalb von 14Tagen\, ansonsten wird der Platz wieder freigegeben. Bitte denken Sie dran\, dass der Skipass extra Ende des Jahres nochmal bezahlt werden muss - sobald wir da Zahlen haben\, werden wir diese per Mail weitergeben an Sie.\r\n\r\n\r\nWir freuen uns auf eine schöne Skifreizeit :) \r\n
URL;VALUE=URI:https://www.unser-ferienprogramm.de/kjr-aoe/veranstaltung.php?id=148324
SUMMARY:Skifreizeit   
DTSTART;TZID=Europe/Berlin:20270102T000000
END:VEVENT

END:VCALENDAR
