BEGIN:VCALENDAR
VERSION:2.0
PRODID:-//hacksw/handcal//NONSGML v1.0//EN
CALSCALE:GREGORIAN
BEGIN:VTIMEZONE
TZID:Europe/Berlin
X-LIC-LOCATION:Europe/Berlin
BEGIN:DAYLIGHT
TZOFFSETFROM:+0100
TZOFFSETTO:+0200
TZNAME:CEST
DTSTART:19700329T020000
RRULE:FREQ=YEARLY;BYDAY=-1SU;BYMONTH=3
END:DAYLIGHT
BEGIN:STANDARD
TZOFFSETFROM:+0200
TZOFFSETTO:+0100
TZNAME:CET
DTSTART:19701025T030000
RRULE:FREQ=YEARLY;BYDAY=-1SU;BYMONTH=10
END:STANDARD
END:VTIMEZONE
BEGIN:VEVENT
DTEND;TZID=Europe/Berlin:20260821T160000
UID:69e5fc0f6665f
DTSTAMP:20260420T121231
LOCATION:Wald am Schönberg
DESCRIPTION:Am Schönberg unterwegs\, spielen\, entdecken\, in der Outdoorküche zusammen Mittagessen zubereiten\, schnitzen und forschen\, Geländespiele und viel Zeit für eure Ideen und Wünsche ....\r\n\r\nBitte an wettergerechte Kleidung (Wechselkeider)\, Vesper (Frühstück) und Trinkflasche denken! Wir sind den ganzen Tag im und am Wald unterwegs.\r\n\r\nAnmeldung ausschliesslich wochenweise bis 16:00 Uhr! Preisliste beachten.\r\n\r\nmit Nico und Miri  und n.n\r\n\r\n\r\nWICHTIG: Durch eine zusätzliche Förderung des Amtes für Kinder\, Jugend und Familie (AKI) können wir in der 2. und 3. Ferienwoche günstigere Preise anbieten.\r\n\r\nWir halten grundsätzlich 20% der Plätze nach Anmeldebeginn noch frei bis 26.4 \, das heißt nicht alle Plätze sind von Beginn an buchbar (Warteliste benutzen) für besondere Hintergründe (Kids mit Behinderung\, soziale und zum Teil geschlechtsspezifische Bedarfe\, Anmeldungen aus unserer Hortgruppe\, Geschwisterkinder\, Mitarbeiter*innenkinder…) und wir geben dann per Mail Bescheid. 
URL;VALUE=URI:https://www.unser-ferienprogramm.de/kinderabenteuerhof/veranstaltung.php?id=99980
SUMMARY:Sommer 3. Ferienwoche Waldprogramm\, Anmeldung ab 13. April 26 (18:00 Uhr)
DTSTART;TZID=Europe/Berlin:20260817T080000
END:VEVENT

END:VCALENDAR
