BEGIN:VCALENDAR
VERSION:2.0
PRODID:-//hacksw/handcal//NONSGML v1.0//EN
CALSCALE:GREGORIAN
BEGIN:VTIMEZONE
TZID:Europe/Berlin
X-LIC-LOCATION:Europe/Berlin
BEGIN:DAYLIGHT
TZOFFSETFROM:+0100
TZOFFSETTO:+0200
TZNAME:CEST
DTSTART:19700329T020000
RRULE:FREQ=YEARLY;BYDAY=-1SU;BYMONTH=3
END:DAYLIGHT
BEGIN:STANDARD
TZOFFSETFROM:+0200
TZOFFSETTO:+0100
TZNAME:CET
DTSTART:19701025T030000
RRULE:FREQ=YEARLY;BYDAY=-1SU;BYMONTH=10
END:STANDARD
END:VTIMEZONE
BEGIN:VEVENT
DTEND;TZID=Europe/Berlin:20250712T120000
UID:69e5fdb41379c
DTSTAMP:20260420T121932
LOCATION:Stereoton Außengelände
DESCRIPTION:An diesem Vormittag kannst du dich mit unseren Spielgeräten und Fahrzeugen austoben.\r\nDosenwerfen\, Einrad\, Skateboard\, verschiedene Roller\, XXL 4 in einer Reihe\, Pedalo\, Stelzen\, Kicker\,\r\nFederball......  All unsere Geräte warten auf dich. Wenn ihr Lust habt\, können wir Parcours aufbauen und Wettbewerbe organisieren.\r\nLeider nur bei gutem Wetter.
URL;VALUE=URI:https://www.unser-ferienprogramm.de/kikuka-stereoton/veranstaltung.php?id=83428
SUMMARY:Spiele Vormittag (Abgesagt)
DTSTART;TZID=Europe/Berlin:20250712T100000
END:VEVENT

END:VCALENDAR
