BEGIN:VCALENDAR
VERSION:2.0
PRODID:-//hacksw/handcal//NONSGML v1.0//EN
CALSCALE:GREGORIAN
BEGIN:VTIMEZONE
TZID:Europe/Berlin
X-LIC-LOCATION:Europe/Berlin
BEGIN:DAYLIGHT
TZOFFSETFROM:+0100
TZOFFSETTO:+0200
TZNAME:CEST
DTSTART:19700329T020000
RRULE:FREQ=YEARLY;BYDAY=-1SU;BYMONTH=3
END:DAYLIGHT
BEGIN:STANDARD
TZOFFSETFROM:+0200
TZOFFSETTO:+0100
TZNAME:CET
DTSTART:19701025T030000
RRULE:FREQ=YEARLY;BYDAY=-1SU;BYMONTH=10
END:STANDARD
END:VTIMEZONE
BEGIN:VEVENT
DTEND;TZID=Europe/Berlin:20251011T120000
UID:69e61525d1681
DTSTAMP:20260420T135933
LOCATION:Stereoton
DESCRIPTION:Eine Süßigkeit\, die gesünder ist als die meisten gekauften.\r\nAus Früchten\, Nüssen und anderen Zutaten machen wir unseren eigenen Fruchtriegel.\r\nLecker\, Lecker. 
URL;VALUE=URI:https://www.unser-ferienprogramm.de/kikuka-stereoton/veranstaltung.php?id=240923
SUMMARY:Fruchtriegel herstellen
DTSTART;TZID=Europe/Berlin:20251011T100000
END:VEVENT

END:VCALENDAR
