BEGIN:VCALENDAR
VERSION:2.0
PRODID:-//hacksw/handcal//NONSGML v1.0//EN
CALSCALE:GREGORIAN
BEGIN:VTIMEZONE
TZID:Europe/Berlin
X-LIC-LOCATION:Europe/Berlin
BEGIN:DAYLIGHT
TZOFFSETFROM:+0100
TZOFFSETTO:+0200
TZNAME:CEST
DTSTART:19700329T020000
RRULE:FREQ=YEARLY;BYDAY=-1SU;BYMONTH=3
END:DAYLIGHT
BEGIN:STANDARD
TZOFFSETFROM:+0200
TZOFFSETTO:+0100
TZNAME:CET
DTSTART:19701025T030000
RRULE:FREQ=YEARLY;BYDAY=-1SU;BYMONTH=10
END:STANDARD
END:VTIMEZONE
BEGIN:VEVENT
DTEND;TZID=Europe/Berlin:20250607T123000
UID:69e62cc6c08ed
DTSTAMP:20260420T154022
LOCATION:Stereoton
DESCRIPTION:Zusammen bauen wir einen Bausatz eines Radfahrers\, der sich in der Sonne bewegt.\r\nJedes Kind bekommt einen eigenen Bausatz und darf diesen auch mit nach Hause nehmen.\r\n
URL;VALUE=URI:https://www.unser-ferienprogramm.de/kikuka-stereoton/veranstaltung.php?id=240875
SUMMARY:Solarradler bauen
DTSTART;TZID=Europe/Berlin:20250607T100000
END:VEVENT

END:VCALENDAR
