BEGIN:VCALENDAR
VERSION:2.0
PRODID:-//hacksw/handcal//NONSGML v1.0//EN
CALSCALE:GREGORIAN
BEGIN:VTIMEZONE
TZID:Europe/Berlin
X-LIC-LOCATION:Europe/Berlin
BEGIN:DAYLIGHT
TZOFFSETFROM:+0100
TZOFFSETTO:+0200
TZNAME:CEST
DTSTART:19700329T020000
RRULE:FREQ=YEARLY;BYDAY=-1SU;BYMONTH=3
END:DAYLIGHT
BEGIN:STANDARD
TZOFFSETFROM:+0200
TZOFFSETTO:+0100
TZNAME:CET
DTSTART:19701025T030000
RRULE:FREQ=YEARLY;BYDAY=-1SU;BYMONTH=10
END:STANDARD
END:VTIMEZONE
BEGIN:VEVENT
DTEND;TZID=Europe/Berlin:20250524T120000
UID:69e5fde96f73e
DTSTAMP:20260420T122025
LOCATION:Stereoton
DESCRIPTION:Makramee-Schlüsselanhänger knoten:\r\nGemeinsam lernen wir die Kunst des Makramee-Knotens und gestalten schöne Schlüsselanhänger. Mit bunten Bändern und einfachen Knoten zaubern wir tolle Anhänger\, die ihr an eurem Rucksack\, Schlüssel oder als Geschenk verwenden könnt. \r\n\r\n
URL;VALUE=URI:https://www.unser-ferienprogramm.de/kikuka-stereoton/veranstaltung.php?id=240857
SUMMARY:Makramee / Schlüsselanhänger
DTSTART;TZID=Europe/Berlin:20250524T100000
END:VEVENT

END:VCALENDAR
