BEGIN:VCALENDAR
VERSION:2.0
PRODID:-//hacksw/handcal//NONSGML v1.0//EN
CALSCALE:GREGORIAN
BEGIN:VTIMEZONE
TZID:Europe/Berlin
X-LIC-LOCATION:Europe/Berlin
BEGIN:DAYLIGHT
TZOFFSETFROM:+0100
TZOFFSETTO:+0200
TZNAME:CEST
DTSTART:19700329T020000
RRULE:FREQ=YEARLY;BYDAY=-1SU;BYMONTH=3
END:DAYLIGHT
BEGIN:STANDARD
TZOFFSETFROM:+0200
TZOFFSETTO:+0100
TZNAME:CET
DTSTART:19701025T030000
RRULE:FREQ=YEARLY;BYDAY=-1SU;BYMONTH=10
END:STANDARD
END:VTIMEZONE
BEGIN:VEVENT
DTEND;TZID=Europe/Berlin:20250329T123000
UID:69e62977da492
DTSTAMP:20260420T152615
LOCATION:Stereoton
DESCRIPTION:Liebt ihr farbige Blumen? Dann wird euch das Blumenweben besonders gefallen! Mit einfachen Techniken gestalten wir farbenfrohe\, kleine Blumen\, die ihr später mit nach Hause nehmen könnt. Egal ob als Dekoration oder als kleines Geschenk sind die kleinen Blumen eine tolle Idee. \r\nIch freue mich auf euer Kommen! \r\n
URL;VALUE=URI:https://www.unser-ferienprogramm.de/kikuka-stereoton/veranstaltung.php?id=240726
SUMMARY:Weben mit Anja
DTSTART;TZID=Europe/Berlin:20250329T100000
END:VEVENT

END:VCALENDAR
