BEGIN:VCALENDAR
VERSION:2.0
PRODID:-//hacksw/handcal//NONSGML v1.0//EN
CALSCALE:GREGORIAN
BEGIN:VTIMEZONE
TZID:Europe/Berlin
X-LIC-LOCATION:Europe/Berlin
BEGIN:DAYLIGHT
TZOFFSETFROM:+0100
TZOFFSETTO:+0200
TZNAME:CEST
DTSTART:19700329T020000
RRULE:FREQ=YEARLY;BYDAY=-1SU;BYMONTH=3
END:DAYLIGHT
BEGIN:STANDARD
TZOFFSETFROM:+0200
TZOFFSETTO:+0100
TZNAME:CET
DTSTART:19701025T030000
RRULE:FREQ=YEARLY;BYDAY=-1SU;BYMONTH=10
END:STANDARD
END:VTIMEZONE
BEGIN:VEVENT
DTEND;TZID=Europe/Berlin:20250215T130000
UID:69e62996dec81
DTSTAMP:20260420T152646
LOCATION:Stereoton
DESCRIPTION:So ein Zirkus! – Theaterworkshop\r\nEin Zirkus hat viel zu bieten\, weißt du was eine Artistin nach der Show macht oder ob ein Zauberer auch kochen kann? Hören wirklich alle immer auf den Direktor oder gibt es da vielleicht sogar ein Geheimnis oder ein Problem zu lösen? Tauch ein in einen Workshop in einer bunten Zirkuswelt\, bei der wir alle mitbestimmen können\, was passieren wird. Mit Improvisation und Rollenspiel entsteht gemeinsam unter der Leitung der Theaterpädagogin Kathrin Jung-Can ein Theaterstück in oder über den Zirkus.\r\n
URL;VALUE=URI:https://www.unser-ferienprogramm.de/kikuka-stereoton/veranstaltung.php?id=238350
SUMMARY:Theaterworkshop "So ein Zirkus"
DTSTART;TZID=Europe/Berlin:20250215T100000
END:VEVENT

END:VCALENDAR
