BEGIN:VCALENDAR
VERSION:2.0
PRODID:-//hacksw/handcal//NONSGML v1.0//EN
CALSCALE:GREGORIAN
BEGIN:VTIMEZONE
TZID:Europe/Berlin
X-LIC-LOCATION:Europe/Berlin
BEGIN:DAYLIGHT
TZOFFSETFROM:+0100
TZOFFSETTO:+0200
TZNAME:CEST
DTSTART:19700329T020000
RRULE:FREQ=YEARLY;BYDAY=-1SU;BYMONTH=3
END:DAYLIGHT
BEGIN:STANDARD
TZOFFSETFROM:+0200
TZOFFSETTO:+0100
TZNAME:CET
DTSTART:19701025T030000
RRULE:FREQ=YEARLY;BYDAY=-1SU;BYMONTH=10
END:STANDARD
END:VTIMEZONE
BEGIN:VEVENT
DTEND;TZID=Europe/Berlin:20250802T230000
UID:69e6129057e1a
DTSTAMP:20260420T134832
LOCATION:Stereoton Außengelände
DESCRIPTION:Alle Informationen finden Sie auf: www.ferienprogramm.neusaess.de \r\nDieses Jahr findet das Kino auch bei schlechtem Wetter\, in den Innenräumen statt.\r\nDazu ist dann eine Anmeldung nötig.\r\nDiese ist später unter www.ferienprogramm.neusaess.de möglich.
URL;VALUE=URI:https://www.unser-ferienprogramm.de/kikuka-stereoton/veranstaltung.php?id=113238
SUMMARY:Open-Air Ferienprogramm Eröffnungskino
DTSTART;TZID=Europe/Berlin:20250802T203000
END:VEVENT

END:VCALENDAR
