BEGIN:VCALENDAR
VERSION:2.0
PRODID:-//hacksw/handcal//NONSGML v1.0//EN
CALSCALE:GREGORIAN
BEGIN:VTIMEZONE
TZID:Europe/Berlin
X-LIC-LOCATION:Europe/Berlin
BEGIN:DAYLIGHT
TZOFFSETFROM:+0100
TZOFFSETTO:+0200
TZNAME:CEST
DTSTART:19700329T020000
RRULE:FREQ=YEARLY;BYDAY=-1SU;BYMONTH=3
END:DAYLIGHT
BEGIN:STANDARD
TZOFFSETFROM:+0200
TZOFFSETTO:+0100
TZNAME:CET
DTSTART:19701025T030000
RRULE:FREQ=YEARLY;BYDAY=-1SU;BYMONTH=10
END:STANDARD
END:VTIMEZONE
BEGIN:VEVENT
DTEND;TZID=Europe/Berlin:20260612T220000
UID:69eaf7782b541
DTSTAMP:20260424T065416
LOCATION:Sporthalle der Käthe-Kollwitz-Schule\, Frankfurter Straße 72\, 35578 Wetzlar
DESCRIPTION:Seid ihr bereit für einen super Abend voller Bewegung\, Lachen und neuen Freunden? Hier könnt ihr spannende Sportarten ausprobieren: Fußball\, Handball und Jugger. Egal\, ob ihr schon Profi seid oder gerade erst loslegen wollt – hier geht es vor allem um Spaß\, Fairness und Teamgefühl.\r\nWas euch erwartet:\r\n•\tFußball: Tore schießen\, Pässe spielen\, coole Dribblings üben und gemeinsam als Team gewinnen.\r\n•\tHandball: Schnelle Pässe\, Wurftäuschungen und aufregende Treffer – mit Spaß im Vordergrund.\r\n•\tJugger: Spannende Bewegungen\, Taktik und viel Teamarbeit – eine sichere und faire Einführung in eine aufregende Sportart.\r\nDu brauchst keine Kenntnisse und darfst alles ausprobieren. \r\nSchnapp dir deine Freunde\, komm vorbei und mach mit!\r\n\r\n\r\n
URL;VALUE=URI:https://www.unser-ferienprogramm.de/kijubi-wetzlar/veranstaltung.php?id=297644
SUMMARY:Hey Jungs: Mit Sport durch den Abend!
DTSTART;TZID=Europe/Berlin:20260612T180000
END:VEVENT

END:VCALENDAR
