BEGIN:VCALENDAR
VERSION:2.0
PRODID:-//hacksw/handcal//NONSGML v1.0//EN
CALSCALE:GREGORIAN
BEGIN:VTIMEZONE
TZID:Europe/Berlin
X-LIC-LOCATION:Europe/Berlin
BEGIN:DAYLIGHT
TZOFFSETFROM:+0100
TZOFFSETTO:+0200
TZNAME:CEST
DTSTART:19700329T020000
RRULE:FREQ=YEARLY;BYDAY=-1SU;BYMONTH=3
END:DAYLIGHT
BEGIN:STANDARD
TZOFFSETFROM:+0200
TZOFFSETTO:+0100
TZNAME:CET
DTSTART:19701025T030000
RRULE:FREQ=YEARLY;BYDAY=-1SU;BYMONTH=10
END:STANDARD
END:VTIMEZONE
BEGIN:VEVENT
DTEND;TZID=Europe/Berlin:20260306T201500
UID:69e5e31391cfa
DTSTAMP:20260420T102555
LOCATION:Kinopolis Gießen
DESCRIPTION:Feiere den Weltfrauen*tag mit uns! \r\nAm 6. März treffen wir uns um 15:45 Uhr am Parkplatz der Bachweide in Wetzlar. Um 16:00 Uhr fahren wir gemeinsam mit Reisebussen zum Kinopolis nach Gießen\, um den Film „Ein Mädchen namens Willow“ zu sehen.\r\nWas könnte Willow mit einem ganzen Wald anstellen? Genau das fragt sie sich\, als sie diesen Wald von ihrer Tante Alwina erbt. Aber das ist noch nicht alles. Alwina hat ihr auch ein kleines\, schiefes Häuschen hinterlassen und vor allem\, ihre Hexenkraft. Will Willow dieses unerwartete Erbe überhaupt annehmen\, mit allen Konsequenzen\, die es mit sich bringt?\r\n\r\nDie IVAM* lädt alle Mädchen* herzlich ein! Die Fahrt und der Kinoeintritt sind kostenlos\, Getränke und Popcorn müssen selbst bezahlt werden. Nach einem tollen Abend kehren wir gegen 20:15 Uhr gemeinsam nach Wetzlar zurück.\r\nLass uns diesen besonderen Tag zusammen genießen und einen unvergesslichen Abend erleben! Wir freuen uns auf dich!\r\n
URL;VALUE=URI:https://www.unser-ferienprogramm.de/kijubi-wetzlar/veranstaltung.php?id=242850
SUMMARY:Mädchen* erobern Kinopolis in Gießen 
DTSTART;TZID=Europe/Berlin:20260306T154500
END:VEVENT

END:VCALENDAR
