BEGIN:VCALENDAR
VERSION:2.0
PRODID:-//hacksw/handcal//NONSGML v1.0//EN
CALSCALE:GREGORIAN
BEGIN:VTIMEZONE
TZID:Europe/Berlin
X-LIC-LOCATION:Europe/Berlin
BEGIN:DAYLIGHT
TZOFFSETFROM:+0100
TZOFFSETTO:+0200
TZNAME:CEST
DTSTART:19700329T020000
RRULE:FREQ=YEARLY;BYDAY=-1SU;BYMONTH=3
END:DAYLIGHT
BEGIN:STANDARD
TZOFFSETFROM:+0200
TZOFFSETTO:+0100
TZNAME:CET
DTSTART:19701025T030000
RRULE:FREQ=YEARLY;BYDAY=-1SU;BYMONTH=10
END:STANDARD
END:VTIMEZONE
BEGIN:VEVENT
DTEND;TZID=Europe/Berlin:20261009T130000
UID:69e7c51ae925b
DTSTAMP:20260421T204234
LOCATION:Jugendhaus Geinsheim
DESCRIPTION:In den Herbstferienspielen erleben die Kinder eine Woche Spiel\, Spannung und Spaß in und um das Jugendhaus in Geinsheim. Es gibt ein warmes Mittagsessen und Wasser. Das Frühstück geben Sie Ihrem Kind bitte mit.\r\nDie Ferienspiele starten um 9 Uhr\, die Kinder können ab 8:30 Uhr ins Jugendhaus kommen und noch spielen oder malen bevor es um 9 Uhr mit dem Programm losgeht.\r\nDie Ferienspiele enden um 15 Uhr\, am Freitag um 13 Uhr.\r\nDas Angebot richtet sich an Kinder\, die während der Herbstspiele in der 1.-4. Klasse sind. 
URL;VALUE=URI:https://www.unser-ferienprogramm.de/kiju-trebur/veranstaltung.php?id=295367
SUMMARY:Herbstferienspiele Geinsheim 2026
DTSTART;TZID=Europe/Berlin:20261005T090000
END:VEVENT

END:VCALENDAR
