BEGIN:VCALENDAR
VERSION:2.0
PRODID:-//hacksw/handcal//NONSGML v1.0//EN
CALSCALE:GREGORIAN
BEGIN:VTIMEZONE
TZID:Europe/Berlin
X-LIC-LOCATION:Europe/Berlin
BEGIN:DAYLIGHT
TZOFFSETFROM:+0100
TZOFFSETTO:+0200
TZNAME:CEST
DTSTART:19700329T020000
RRULE:FREQ=YEARLY;BYDAY=-1SU;BYMONTH=3
END:DAYLIGHT
BEGIN:STANDARD
TZOFFSETFROM:+0200
TZOFFSETTO:+0100
TZNAME:CET
DTSTART:19701025T030000
RRULE:FREQ=YEARLY;BYDAY=-1SU;BYMONTH=10
END:STANDARD
END:VTIMEZONE
BEGIN:VEVENT
DTEND;TZID=Europe/Berlin:20260717T130000
UID:69e7c5c72a3eb
DTSTAMP:20260421T204527
LOCATION:Jugendhaus Astheim
DESCRIPTION:! Ein Angebot für Kinder der 5.-7. Klasse !\r\n\r\nLangeweile in den Sommerferien? Dann mach mit beim Ferienspaß der Kinder- und Jugendförderung. In der 2. und 3. Sommerferienwoche treffen wir uns vormittags im Jugendhaus Astheim. Es gibt Kreativangebote\, Bewegungsangebote\, Tischkicker\, Billard\, Koch- und Backaktionen.
URL;VALUE=URI:https://www.unser-ferienprogramm.de/kiju-trebur/veranstaltung.php?id=295225
SUMMARY:Sommerferienspaß für 5.-7. Klasse Woche 2
DTSTART;TZID=Europe/Berlin:20260713T090000
END:VEVENT

END:VCALENDAR
