BEGIN:VCALENDAR
VERSION:2.0
PRODID:-//hacksw/handcal//NONSGML v1.0//EN
CALSCALE:GREGORIAN
BEGIN:VTIMEZONE
TZID:Europe/Berlin
X-LIC-LOCATION:Europe/Berlin
BEGIN:DAYLIGHT
TZOFFSETFROM:+0100
TZOFFSETTO:+0200
TZNAME:CEST
DTSTART:19700329T020000
RRULE:FREQ=YEARLY;BYDAY=-1SU;BYMONTH=3
END:DAYLIGHT
BEGIN:STANDARD
TZOFFSETFROM:+0200
TZOFFSETTO:+0100
TZNAME:CET
DTSTART:19701025T030000
RRULE:FREQ=YEARLY;BYDAY=-1SU;BYMONTH=10
END:STANDARD
END:VTIMEZONE
BEGIN:VEVENT
DTEND;TZID=Europe/Berlin:20260717T000000
UID:69e7c58135428
DTSTAMP:20260421T204417
LOCATION:Theobaldstraße- Trebur 
DESCRIPTION:Kinder\, die nicht im Ortsteil Trebur wohnen können mit dem Linienbus nach Trebur fahren. An der Haltestelle Trebur Astheimer Straße\, oder Trebur MPS/Sportstätten. Dort werden sie vom Ferienspielteam abgeholt und zum Ferienspielplatz neben der Großsporthalle begleitet.\r\nNachmittags werden die Kinder wieder an die Bushaltestelle gebracht. 
URL;VALUE=URI:https://www.unser-ferienprogramm.de/kiju-trebur/veranstaltung.php?id=239640
SUMMARY:Busfahrkarte Sommerferienspiele Trebur 2026
DTSTART;TZID=Europe/Berlin:20260706T000000
END:VEVENT

END:VCALENDAR
