BEGIN:VCALENDAR
VERSION:2.0
PRODID:-//hacksw/handcal//NONSGML v1.0//EN
CALSCALE:GREGORIAN
BEGIN:VTIMEZONE
TZID:Europe/Berlin
X-LIC-LOCATION:Europe/Berlin
BEGIN:DAYLIGHT
TZOFFSETFROM:+0100
TZOFFSETTO:+0200
TZNAME:CEST
DTSTART:19700329T020000
RRULE:FREQ=YEARLY;BYDAY=-1SU;BYMONTH=3
END:DAYLIGHT
BEGIN:STANDARD
TZOFFSETFROM:+0200
TZOFFSETTO:+0100
TZNAME:CET
DTSTART:19701025T030000
RRULE:FREQ=YEARLY;BYDAY=-1SU;BYMONTH=10
END:STANDARD
END:VTIMEZONE
BEGIN:VEVENT
DTEND;TZID=Europe/Berlin:20260717T094500
UID:69e7c58a0f697
DTSTAMP:20260421T204426
LOCATION:Ferienspielplatz auf der Wiese neben dem Schwimmbad
DESCRIPTION:Bevor das Programm der Ferienspiele los geht gibt es\, für die Frühaufsteher*innen unter euch\, die Möglichkeit sich vorher auf dem Ferienspielplatz zu treffen und gemeinsam zu spielen\, zu malen und zu frühstücken. Die Frühbetreuung startet ab 7:30 Uhr\, die Kinder können aber auch später kommen.\r\n
URL;VALUE=URI:https://www.unser-ferienprogramm.de/kiju-trebur/veranstaltung.php?id=239637
SUMMARY:Frühbetreuung Sommerferienspiele 2026
DTSTART;TZID=Europe/Berlin:20260706T073000
END:VEVENT

END:VCALENDAR
